BEGIN:VCALENDAR
VERSION:2.0
PRODID:-//Les Tours de Merle - Cité médiévale en Corrèze - ECPv6.15.18//NONSGML v1.0//EN
CALSCALE:GREGORIAN
METHOD:PUBLISH
X-ORIGINAL-URL:https://toursdemerle.fr
X-WR-CALDESC:Évènements pour Les Tours de Merle - Cité médiévale en Corrèze
REFRESH-INTERVAL;VALUE=DURATION:PT1H
X-Robots-Tag:noindex
X-PUBLISHED-TTL:PT1H
BEGIN:VTIMEZONE
TZID:Europe/Paris
BEGIN:DAYLIGHT
TZOFFSETFROM:+0100
TZOFFSETTO:+0200
TZNAME:CEST
DTSTART:20240331T010000
END:DAYLIGHT
BEGIN:STANDARD
TZOFFSETFROM:+0200
TZOFFSETTO:+0100
TZNAME:CET
DTSTART:20241027T010000
END:STANDARD
BEGIN:DAYLIGHT
TZOFFSETFROM:+0100
TZOFFSETTO:+0200
TZNAME:CEST
DTSTART:20250330T010000
END:DAYLIGHT
BEGIN:STANDARD
TZOFFSETFROM:+0200
TZOFFSETTO:+0100
TZNAME:CET
DTSTART:20251026T010000
END:STANDARD
BEGIN:DAYLIGHT
TZOFFSETFROM:+0100
TZOFFSETTO:+0200
TZNAME:CEST
DTSTART:20260329T010000
END:DAYLIGHT
BEGIN:STANDARD
TZOFFSETFROM:+0200
TZOFFSETTO:+0100
TZNAME:CET
DTSTART:20261025T010000
END:STANDARD
END:VTIMEZONE
BEGIN:VEVENT
DTSTART;TZID=Europe/Paris:20250422T140000
DTEND;TZID=Europe/Paris:20250422T150000
DTSTAMP:20260424T130541
CREATED:20250318T111721Z
LAST-MODIFIED:20250318T113006Z
UID:10004271-1745330400-1745334000@toursdemerle.fr
SUMMARY:Escarcelle à histoires - Contes en musique
DESCRIPTION:La compagnie Ambraluna vous convie à un voyage envoûtant mêlant récits et mélodies\, où contes et musique font résonner les histoires d’hier\, pour les oreilles d’aujourd’hui. Dans une ambiance intimiste au cœur du village des Tours de Merle\, laissez-vous transporter par des aventures fascinantes peuplées de rois\, de troubadours\, de princesses et d’êtres fantastiques. Quelques notes de musiques… et le voyage commence !
URL:https://toursdemerle.fr/event/escarcelle-a-histoires-contes-en-musique/2025-04-22/
ATTACH;FMTTYPE=:
END:VEVENT
BEGIN:VEVENT
DTSTART;TZID=Europe/Paris:20250422T140000
DTEND;TZID=Europe/Paris:20250422T150000
DTSTAMP:20260424T130541
CREATED:20250318T111721Z
LAST-MODIFIED:20250318T113006Z
UID:10004271-1745330400-1745334000@toursdemerle.fr
SUMMARY:Escarcelle à histoires - Contes en musique
DESCRIPTION:La compagnie Ambraluna vous convie à un voyage envoûtant mêlant récits et mélodies\, où contes et musique font résonner les histoires d’hier\, pour les oreilles d’aujourd’hui. Dans une ambiance intimiste au cœur du village des Tours de Merle\, laissez-vous transporter par des aventures fascinantes peuplées de rois\, de troubadours\, de princesses et d’êtres fantastiques. Quelques notes de musiques… et le voyage commence !
URL:https://toursdemerle.fr/event/escarcelle-a-histoires-contes-en-musique/2025-04-22/
ATTACH;FMTTYPE=:
END:VEVENT
BEGIN:VEVENT
DTSTART;TZID=Europe/Paris:20250422T140000
DTEND;TZID=Europe/Paris:20250422T150000
DTSTAMP:20260424T130541
CREATED:20250318T111721Z
LAST-MODIFIED:20250318T113006Z
UID:10004271-1745330400-1745334000@toursdemerle.fr
SUMMARY:Escarcelle à histoires - Contes en musique
DESCRIPTION:La compagnie Ambraluna vous convie à un voyage envoûtant mêlant récits et mélodies\, où contes et musique font résonner les histoires d’hier\, pour les oreilles d’aujourd’hui. Dans une ambiance intimiste au cœur du village des Tours de Merle\, laissez-vous transporter par des aventures fascinantes peuplées de rois\, de troubadours\, de princesses et d’êtres fantastiques. Quelques notes de musiques… et le voyage commence !
URL:https://toursdemerle.fr/event/escarcelle-a-histoires-contes-en-musique/2025-04-22/
ATTACH;FMTTYPE=:
END:VEVENT
BEGIN:VEVENT
DTSTART;TZID=Europe/Paris:20250422T140000
DTEND;TZID=Europe/Paris:20250422T150000
DTSTAMP:20260424T130541
CREATED:20250318T111721Z
LAST-MODIFIED:20250318T113006Z
UID:10004271-1745330400-1745334000@toursdemerle.fr
SUMMARY:Escarcelle à histoires - Contes en musique
DESCRIPTION:La compagnie Ambraluna vous convie à un voyage envoûtant mêlant récits et mélodies\, où contes et musique font résonner les histoires d’hier\, pour les oreilles d’aujourd’hui. Dans une ambiance intimiste au cœur du village des Tours de Merle\, laissez-vous transporter par des aventures fascinantes peuplées de rois\, de troubadours\, de princesses et d’êtres fantastiques. Quelques notes de musiques… et le voyage commence !
URL:https://toursdemerle.fr/event/escarcelle-a-histoires-contes-en-musique/2025-04-22/
ATTACH;FMTTYPE=:
END:VEVENT
BEGIN:VEVENT
DTSTART;TZID=Europe/Paris:20250422T140000
DTEND;TZID=Europe/Paris:20250422T150000
DTSTAMP:20260424T130541
CREATED:20250318T111721Z
LAST-MODIFIED:20250318T113006Z
UID:10004271-1745330400-1745334000@toursdemerle.fr
SUMMARY:Escarcelle à histoires - Contes en musique
DESCRIPTION:La compagnie Ambraluna vous convie à un voyage envoûtant mêlant récits et mélodies\, où contes et musique font résonner les histoires d’hier\, pour les oreilles d’aujourd’hui. Dans une ambiance intimiste au cœur du village des Tours de Merle\, laissez-vous transporter par des aventures fascinantes peuplées de rois\, de troubadours\, de princesses et d’êtres fantastiques. Quelques notes de musiques… et le voyage commence !
URL:https://toursdemerle.fr/event/escarcelle-a-histoires-contes-en-musique/2025-04-22/
ATTACH;FMTTYPE=:
END:VEVENT
BEGIN:VEVENT
DTSTART;TZID=Europe/Paris:20250422T140000
DTEND;TZID=Europe/Paris:20250422T150000
DTSTAMP:20260424T130541
CREATED:20250318T111721Z
LAST-MODIFIED:20250318T113006Z
UID:10004271-1745330400-1745334000@toursdemerle.fr
SUMMARY:Escarcelle à histoires - Contes en musique
DESCRIPTION:La compagnie Ambraluna vous convie à un voyage envoûtant mêlant récits et mélodies\, où contes et musique font résonner les histoires d’hier\, pour les oreilles d’aujourd’hui. Dans une ambiance intimiste au cœur du village des Tours de Merle\, laissez-vous transporter par des aventures fascinantes peuplées de rois\, de troubadours\, de princesses et d’êtres fantastiques. Quelques notes de musiques… et le voyage commence !
URL:https://toursdemerle.fr/event/escarcelle-a-histoires-contes-en-musique/2025-04-22/
ATTACH;FMTTYPE=:
END:VEVENT
BEGIN:VEVENT
DTSTART;TZID=Europe/Paris:20250422T140000
DTEND;TZID=Europe/Paris:20250422T150000
DTSTAMP:20260424T130541
CREATED:20250318T111721Z
LAST-MODIFIED:20250318T113006Z
UID:10004271-1745330400-1745334000@toursdemerle.fr
SUMMARY:Escarcelle à histoires - Contes en musique
DESCRIPTION:La compagnie Ambraluna vous convie à un voyage envoûtant mêlant récits et mélodies\, où contes et musique font résonner les histoires d’hier\, pour les oreilles d’aujourd’hui. Dans une ambiance intimiste au cœur du village des Tours de Merle\, laissez-vous transporter par des aventures fascinantes peuplées de rois\, de troubadours\, de princesses et d’êtres fantastiques. Quelques notes de musiques… et le voyage commence !
URL:https://toursdemerle.fr/event/escarcelle-a-histoires-contes-en-musique/2025-04-22/
ATTACH;FMTTYPE=:
END:VEVENT
BEGIN:VEVENT
DTSTART;TZID=Europe/Paris:20250422T140000
DTEND;TZID=Europe/Paris:20250422T150000
DTSTAMP:20260424T130541
CREATED:20250318T111721Z
LAST-MODIFIED:20250318T113006Z
UID:10004271-1745330400-1745334000@toursdemerle.fr
SUMMARY:Escarcelle à histoires - Contes en musique
DESCRIPTION:La compagnie Ambraluna vous convie à un voyage envoûtant mêlant récits et mélodies\, où contes et musique font résonner les histoires d’hier\, pour les oreilles d’aujourd’hui. Dans une ambiance intimiste au cœur du village des Tours de Merle\, laissez-vous transporter par des aventures fascinantes peuplées de rois\, de troubadours\, de princesses et d’êtres fantastiques. Quelques notes de musiques… et le voyage commence !
URL:https://toursdemerle.fr/event/escarcelle-a-histoires-contes-en-musique/2025-04-22/
ATTACH;FMTTYPE=:
END:VEVENT
BEGIN:VEVENT
DTSTART;TZID=Europe/Paris:20250422T140000
DTEND;TZID=Europe/Paris:20250422T150000
DTSTAMP:20260424T130541
CREATED:20250318T111721Z
LAST-MODIFIED:20250318T113006Z
UID:10004271-1745330400-1745334000@toursdemerle.fr
SUMMARY:Escarcelle à histoires - Contes en musique
DESCRIPTION:La compagnie Ambraluna vous convie à un voyage envoûtant mêlant récits et mélodies\, où contes et musique font résonner les histoires d’hier\, pour les oreilles d’aujourd’hui. Dans une ambiance intimiste au cœur du village des Tours de Merle\, laissez-vous transporter par des aventures fascinantes peuplées de rois\, de troubadours\, de princesses et d’êtres fantastiques. Quelques notes de musiques… et le voyage commence !
URL:https://toursdemerle.fr/event/escarcelle-a-histoires-contes-en-musique/2025-04-22/
ATTACH;FMTTYPE=:
END:VEVENT
BEGIN:VEVENT
DTSTART;TZID=Europe/Paris:20250422T140000
DTEND;TZID=Europe/Paris:20250422T150000
DTSTAMP:20260424T130541
CREATED:20250318T111721Z
LAST-MODIFIED:20250318T113006Z
UID:10004271-1745330400-1745334000@toursdemerle.fr
SUMMARY:Escarcelle à histoires - Contes en musique
DESCRIPTION:La compagnie Ambraluna vous convie à un voyage envoûtant mêlant récits et mélodies\, où contes et musique font résonner les histoires d’hier\, pour les oreilles d’aujourd’hui. Dans une ambiance intimiste au cœur du village des Tours de Merle\, laissez-vous transporter par des aventures fascinantes peuplées de rois\, de troubadours\, de princesses et d’êtres fantastiques. Quelques notes de musiques… et le voyage commence !
URL:https://toursdemerle.fr/event/escarcelle-a-histoires-contes-en-musique/2025-04-22/
ATTACH;FMTTYPE=:
END:VEVENT
BEGIN:VEVENT
DTSTART;TZID=Europe/Paris:20250422T140000
DTEND;TZID=Europe/Paris:20250422T150000
DTSTAMP:20260424T130541
CREATED:20250318T111721Z
LAST-MODIFIED:20250318T113006Z
UID:10004271-1745330400-1745334000@toursdemerle.fr
SUMMARY:Escarcelle à histoires - Contes en musique
DESCRIPTION:La compagnie Ambraluna vous convie à un voyage envoûtant mêlant récits et mélodies\, où contes et musique font résonner les histoires d’hier\, pour les oreilles d’aujourd’hui. Dans une ambiance intimiste au cœur du village des Tours de Merle\, laissez-vous transporter par des aventures fascinantes peuplées de rois\, de troubadours\, de princesses et d’êtres fantastiques. Quelques notes de musiques… et le voyage commence !
URL:https://toursdemerle.fr/event/escarcelle-a-histoires-contes-en-musique/2025-04-22/
ATTACH;FMTTYPE=:
END:VEVENT
BEGIN:VEVENT
DTSTART;TZID=Europe/Paris:20250422T140000
DTEND;TZID=Europe/Paris:20250422T150000
DTSTAMP:20260424T130541
CREATED:20250318T111721Z
LAST-MODIFIED:20250318T113006Z
UID:10004271-1745330400-1745334000@toursdemerle.fr
SUMMARY:Escarcelle à histoires - Contes en musique
DESCRIPTION:La compagnie Ambraluna vous convie à un voyage envoûtant mêlant récits et mélodies\, où contes et musique font résonner les histoires d’hier\, pour les oreilles d’aujourd’hui. Dans une ambiance intimiste au cœur du village des Tours de Merle\, laissez-vous transporter par des aventures fascinantes peuplées de rois\, de troubadours\, de princesses et d’êtres fantastiques. Quelques notes de musiques… et le voyage commence !
URL:https://toursdemerle.fr/event/escarcelle-a-histoires-contes-en-musique/2025-04-22/
ATTACH;FMTTYPE=:
END:VEVENT
BEGIN:VEVENT
DTSTART;TZID=Europe/Paris:20250422T140000
DTEND;TZID=Europe/Paris:20250422T150000
DTSTAMP:20260424T130541
CREATED:20250318T111721Z
LAST-MODIFIED:20250318T113006Z
UID:10004271-1745330400-1745334000@toursdemerle.fr
SUMMARY:Escarcelle à histoires - Contes en musique
DESCRIPTION:La compagnie Ambraluna vous convie à un voyage envoûtant mêlant récits et mélodies\, où contes et musique font résonner les histoires d’hier\, pour les oreilles d’aujourd’hui. Dans une ambiance intimiste au cœur du village des Tours de Merle\, laissez-vous transporter par des aventures fascinantes peuplées de rois\, de troubadours\, de princesses et d’êtres fantastiques. Quelques notes de musiques… et le voyage commence !
URL:https://toursdemerle.fr/event/escarcelle-a-histoires-contes-en-musique/2025-04-22/
ATTACH;FMTTYPE=:
END:VEVENT
BEGIN:VEVENT
DTSTART;TZID=Europe/Paris:20250422T140000
DTEND;TZID=Europe/Paris:20250422T150000
DTSTAMP:20260424T130541
CREATED:20250318T111721Z
LAST-MODIFIED:20250318T113006Z
UID:10004271-1745330400-1745334000@toursdemerle.fr
SUMMARY:Escarcelle à histoires - Contes en musique
DESCRIPTION:La compagnie Ambraluna vous convie à un voyage envoûtant mêlant récits et mélodies\, où contes et musique font résonner les histoires d’hier\, pour les oreilles d’aujourd’hui. Dans une ambiance intimiste au cœur du village des Tours de Merle\, laissez-vous transporter par des aventures fascinantes peuplées de rois\, de troubadours\, de princesses et d’êtres fantastiques. Quelques notes de musiques… et le voyage commence !
URL:https://toursdemerle.fr/event/escarcelle-a-histoires-contes-en-musique/2025-04-22/
ATTACH;FMTTYPE=:
END:VEVENT
BEGIN:VEVENT
DTSTART;TZID=Europe/Paris:20250422T140000
DTEND;TZID=Europe/Paris:20250422T150000
DTSTAMP:20260424T130541
CREATED:20250318T111721Z
LAST-MODIFIED:20250318T113006Z
UID:10004271-1745330400-1745334000@toursdemerle.fr
SUMMARY:Escarcelle à histoires - Contes en musique
DESCRIPTION:La compagnie Ambraluna vous convie à un voyage envoûtant mêlant récits et mélodies\, où contes et musique font résonner les histoires d’hier\, pour les oreilles d’aujourd’hui. Dans une ambiance intimiste au cœur du village des Tours de Merle\, laissez-vous transporter par des aventures fascinantes peuplées de rois\, de troubadours\, de princesses et d’êtres fantastiques. Quelques notes de musiques… et le voyage commence !
URL:https://toursdemerle.fr/event/escarcelle-a-histoires-contes-en-musique/2025-04-22/
ATTACH;FMTTYPE=:
END:VEVENT
BEGIN:VEVENT
DTSTART;TZID=Europe/Paris:20250422T140000
DTEND;TZID=Europe/Paris:20250422T150000
DTSTAMP:20260424T130541
CREATED:20250318T111721Z
LAST-MODIFIED:20250318T113006Z
UID:10004271-1745330400-1745334000@toursdemerle.fr
SUMMARY:Escarcelle à histoires - Contes en musique
DESCRIPTION:La compagnie Ambraluna vous convie à un voyage envoûtant mêlant récits et mélodies\, où contes et musique font résonner les histoires d’hier\, pour les oreilles d’aujourd’hui. Dans une ambiance intimiste au cœur du village des Tours de Merle\, laissez-vous transporter par des aventures fascinantes peuplées de rois\, de troubadours\, de princesses et d’êtres fantastiques. Quelques notes de musiques… et le voyage commence !
URL:https://toursdemerle.fr/event/escarcelle-a-histoires-contes-en-musique/2025-04-22/
ATTACH;FMTTYPE=:
END:VEVENT
BEGIN:VEVENT
DTSTART;TZID=Europe/Paris:20250422T140000
DTEND;TZID=Europe/Paris:20250422T150000
DTSTAMP:20260424T130541
CREATED:20250318T111721Z
LAST-MODIFIED:20250318T113006Z
UID:10004271-1745330400-1745334000@toursdemerle.fr
SUMMARY:Escarcelle à histoires - Contes en musique
DESCRIPTION:La compagnie Ambraluna vous convie à un voyage envoûtant mêlant récits et mélodies\, où contes et musique font résonner les histoires d’hier\, pour les oreilles d’aujourd’hui. Dans une ambiance intimiste au cœur du village des Tours de Merle\, laissez-vous transporter par des aventures fascinantes peuplées de rois\, de troubadours\, de princesses et d’êtres fantastiques. Quelques notes de musiques… et le voyage commence !
URL:https://toursdemerle.fr/event/escarcelle-a-histoires-contes-en-musique/2025-04-22/
ATTACH;FMTTYPE=:
END:VEVENT
BEGIN:VEVENT
DTSTART;TZID=Europe/Paris:20250422T140000
DTEND;TZID=Europe/Paris:20250422T150000
DTSTAMP:20260424T130541
CREATED:20250318T111721Z
LAST-MODIFIED:20250318T113006Z
UID:10004271-1745330400-1745334000@toursdemerle.fr
SUMMARY:Escarcelle à histoires - Contes en musique
DESCRIPTION:La compagnie Ambraluna vous convie à un voyage envoûtant mêlant récits et mélodies\, où contes et musique font résonner les histoires d’hier\, pour les oreilles d’aujourd’hui. Dans une ambiance intimiste au cœur du village des Tours de Merle\, laissez-vous transporter par des aventures fascinantes peuplées de rois\, de troubadours\, de princesses et d’êtres fantastiques. Quelques notes de musiques… et le voyage commence !
URL:https://toursdemerle.fr/event/escarcelle-a-histoires-contes-en-musique/2025-04-22/
ATTACH;FMTTYPE=:
END:VEVENT
BEGIN:VEVENT
DTSTART;TZID=Europe/Paris:20250422T140000
DTEND;TZID=Europe/Paris:20250422T150000
DTSTAMP:20260424T130541
CREATED:20250318T111721Z
LAST-MODIFIED:20250318T113006Z
UID:10004271-1745330400-1745334000@toursdemerle.fr
SUMMARY:Escarcelle à histoires - Contes en musique
DESCRIPTION:La compagnie Ambraluna vous convie à un voyage envoûtant mêlant récits et mélodies\, où contes et musique font résonner les histoires d’hier\, pour les oreilles d’aujourd’hui. Dans une ambiance intimiste au cœur du village des Tours de Merle\, laissez-vous transporter par des aventures fascinantes peuplées de rois\, de troubadours\, de princesses et d’êtres fantastiques. Quelques notes de musiques… et le voyage commence !
URL:https://toursdemerle.fr/event/escarcelle-a-histoires-contes-en-musique/2025-04-22/
ATTACH;FMTTYPE=:
END:VEVENT
BEGIN:VEVENT
DTSTART;TZID=Europe/Paris:20250422T140000
DTEND;TZID=Europe/Paris:20250422T150000
DTSTAMP:20260424T130541
CREATED:20250318T111721Z
LAST-MODIFIED:20250318T113006Z
UID:10004271-1745330400-1745334000@toursdemerle.fr
SUMMARY:Escarcelle à histoires - Contes en musique
DESCRIPTION:La compagnie Ambraluna vous convie à un voyage envoûtant mêlant récits et mélodies\, où contes et musique font résonner les histoires d’hier\, pour les oreilles d’aujourd’hui. Dans une ambiance intimiste au cœur du village des Tours de Merle\, laissez-vous transporter par des aventures fascinantes peuplées de rois\, de troubadours\, de princesses et d’êtres fantastiques. Quelques notes de musiques… et le voyage commence !
URL:https://toursdemerle.fr/event/escarcelle-a-histoires-contes-en-musique/2025-04-22/
ATTACH;FMTTYPE=:
END:VEVENT
BEGIN:VEVENT
DTSTART;TZID=Europe/Paris:20250422T140000
DTEND;TZID=Europe/Paris:20250422T150000
DTSTAMP:20260424T130541
CREATED:20250318T111721Z
LAST-MODIFIED:20250318T113006Z
UID:10004271-1745330400-1745334000@toursdemerle.fr
SUMMARY:Escarcelle à histoires - Contes en musique
DESCRIPTION:La compagnie Ambraluna vous convie à un voyage envoûtant mêlant récits et mélodies\, où contes et musique font résonner les histoires d’hier\, pour les oreilles d’aujourd’hui. Dans une ambiance intimiste au cœur du village des Tours de Merle\, laissez-vous transporter par des aventures fascinantes peuplées de rois\, de troubadours\, de princesses et d’êtres fantastiques. Quelques notes de musiques… et le voyage commence !
URL:https://toursdemerle.fr/event/escarcelle-a-histoires-contes-en-musique/2025-04-22/
ATTACH;FMTTYPE=:
END:VEVENT
BEGIN:VEVENT
DTSTART;TZID=Europe/Paris:20250422T140000
DTEND;TZID=Europe/Paris:20250422T150000
DTSTAMP:20260424T130541
CREATED:20250318T111721Z
LAST-MODIFIED:20250318T113006Z
UID:10004271-1745330400-1745334000@toursdemerle.fr
SUMMARY:Escarcelle à histoires - Contes en musique
DESCRIPTION:La compagnie Ambraluna vous convie à un voyage envoûtant mêlant récits et mélodies\, où contes et musique font résonner les histoires d’hier\, pour les oreilles d’aujourd’hui. Dans une ambiance intimiste au cœur du village des Tours de Merle\, laissez-vous transporter par des aventures fascinantes peuplées de rois\, de troubadours\, de princesses et d’êtres fantastiques. Quelques notes de musiques… et le voyage commence !
URL:https://toursdemerle.fr/event/escarcelle-a-histoires-contes-en-musique/2025-04-22/
ATTACH;FMTTYPE=:
END:VEVENT
BEGIN:VEVENT
DTSTART;TZID=Europe/Paris:20250422T140000
DTEND;TZID=Europe/Paris:20250422T150000
DTSTAMP:20260424T130541
CREATED:20250318T111721Z
LAST-MODIFIED:20250318T113006Z
UID:10004271-1745330400-1745334000@toursdemerle.fr
SUMMARY:Escarcelle à histoires - Contes en musique
DESCRIPTION:La compagnie Ambraluna vous convie à un voyage envoûtant mêlant récits et mélodies\, où contes et musique font résonner les histoires d’hier\, pour les oreilles d’aujourd’hui. Dans une ambiance intimiste au cœur du village des Tours de Merle\, laissez-vous transporter par des aventures fascinantes peuplées de rois\, de troubadours\, de princesses et d’êtres fantastiques. Quelques notes de musiques… et le voyage commence !
URL:https://toursdemerle.fr/event/escarcelle-a-histoires-contes-en-musique/2025-04-22/
ATTACH;FMTTYPE=:
END:VEVENT
BEGIN:VEVENT
DTSTART;TZID=Europe/Paris:20250422T140000
DTEND;TZID=Europe/Paris:20250422T150000
DTSTAMP:20260424T130541
CREATED:20250318T111721Z
LAST-MODIFIED:20250318T113006Z
UID:10004271-1745330400-1745334000@toursdemerle.fr
SUMMARY:Escarcelle à histoires - Contes en musique
DESCRIPTION:La compagnie Ambraluna vous convie à un voyage envoûtant mêlant récits et mélodies\, où contes et musique font résonner les histoires d’hier\, pour les oreilles d’aujourd’hui. Dans une ambiance intimiste au cœur du village des Tours de Merle\, laissez-vous transporter par des aventures fascinantes peuplées de rois\, de troubadours\, de princesses et d’êtres fantastiques. Quelques notes de musiques… et le voyage commence !
URL:https://toursdemerle.fr/event/escarcelle-a-histoires-contes-en-musique/2025-04-22/
ATTACH;FMTTYPE=:
END:VEVENT
BEGIN:VEVENT
DTSTART;TZID=Europe/Paris:20250422T140000
DTEND;TZID=Europe/Paris:20250422T150000
DTSTAMP:20260424T130541
CREATED:20250318T111721Z
LAST-MODIFIED:20250318T113006Z
UID:10004271-1745330400-1745334000@toursdemerle.fr
SUMMARY:Escarcelle à histoires - Contes en musique
DESCRIPTION:La compagnie Ambraluna vous convie à un voyage envoûtant mêlant récits et mélodies\, où contes et musique font résonner les histoires d’hier\, pour les oreilles d’aujourd’hui. Dans une ambiance intimiste au cœur du village des Tours de Merle\, laissez-vous transporter par des aventures fascinantes peuplées de rois\, de troubadours\, de princesses et d’êtres fantastiques. Quelques notes de musiques… et le voyage commence !
URL:https://toursdemerle.fr/event/escarcelle-a-histoires-contes-en-musique/2025-04-22/
ATTACH;FMTTYPE=:
END:VEVENT
BEGIN:VEVENT
DTSTART;TZID=Europe/Paris:20250422T140000
DTEND;TZID=Europe/Paris:20250422T150000
DTSTAMP:20260424T130541
CREATED:20250318T111721Z
LAST-MODIFIED:20250318T113006Z
UID:10004271-1745330400-1745334000@toursdemerle.fr
SUMMARY:Escarcelle à histoires - Contes en musique
DESCRIPTION:La compagnie Ambraluna vous convie à un voyage envoûtant mêlant récits et mélodies\, où contes et musique font résonner les histoires d’hier\, pour les oreilles d’aujourd’hui. Dans une ambiance intimiste au cœur du village des Tours de Merle\, laissez-vous transporter par des aventures fascinantes peuplées de rois\, de troubadours\, de princesses et d’êtres fantastiques. Quelques notes de musiques… et le voyage commence !
URL:https://toursdemerle.fr/event/escarcelle-a-histoires-contes-en-musique/2025-04-22/
ATTACH;FMTTYPE=:
END:VEVENT
BEGIN:VEVENT
DTSTART;TZID=Europe/Paris:20250422T140000
DTEND;TZID=Europe/Paris:20250422T150000
DTSTAMP:20260424T130541
CREATED:20250318T111721Z
LAST-MODIFIED:20250318T113006Z
UID:10004271-1745330400-1745334000@toursdemerle.fr
SUMMARY:Escarcelle à histoires - Contes en musique
DESCRIPTION:La compagnie Ambraluna vous convie à un voyage envoûtant mêlant récits et mélodies\, où contes et musique font résonner les histoires d’hier\, pour les oreilles d’aujourd’hui. Dans une ambiance intimiste au cœur du village des Tours de Merle\, laissez-vous transporter par des aventures fascinantes peuplées de rois\, de troubadours\, de princesses et d’êtres fantastiques. Quelques notes de musiques… et le voyage commence !
URL:https://toursdemerle.fr/event/escarcelle-a-histoires-contes-en-musique/2025-04-22/
ATTACH;FMTTYPE=:
END:VEVENT
BEGIN:VEVENT
DTSTART;TZID=Europe/Paris:20250422T140000
DTEND;TZID=Europe/Paris:20250422T150000
DTSTAMP:20260424T130541
CREATED:20250318T111721Z
LAST-MODIFIED:20250318T113006Z
UID:10004271-1745330400-1745334000@toursdemerle.fr
SUMMARY:Escarcelle à histoires - Contes en musique
DESCRIPTION:La compagnie Ambraluna vous convie à un voyage envoûtant mêlant récits et mélodies\, où contes et musique font résonner les histoires d’hier\, pour les oreilles d’aujourd’hui. Dans une ambiance intimiste au cœur du village des Tours de Merle\, laissez-vous transporter par des aventures fascinantes peuplées de rois\, de troubadours\, de princesses et d’êtres fantastiques. Quelques notes de musiques… et le voyage commence !
URL:https://toursdemerle.fr/event/escarcelle-a-histoires-contes-en-musique/2025-04-22/
ATTACH;FMTTYPE=:
END:VEVENT
BEGIN:VEVENT
DTSTART;TZID=Europe/Paris:20250422T140000
DTEND;TZID=Europe/Paris:20250422T150000
DTSTAMP:20260424T130541
CREATED:20250318T111721Z
LAST-MODIFIED:20250318T113006Z
UID:10004271-1745330400-1745334000@toursdemerle.fr
SUMMARY:Escarcelle à histoires - Contes en musique
DESCRIPTION:La compagnie Ambraluna vous convie à un voyage envoûtant mêlant récits et mélodies\, où contes et musique font résonner les histoires d’hier\, pour les oreilles d’aujourd’hui. Dans une ambiance intimiste au cœur du village des Tours de Merle\, laissez-vous transporter par des aventures fascinantes peuplées de rois\, de troubadours\, de princesses et d’êtres fantastiques. Quelques notes de musiques… et le voyage commence !
URL:https://toursdemerle.fr/event/escarcelle-a-histoires-contes-en-musique/2025-04-22/
ATTACH;FMTTYPE=:
END:VEVENT
BEGIN:VEVENT
DTSTART;TZID=Europe/Paris:20250422T140000
DTEND;TZID=Europe/Paris:20250422T150000
DTSTAMP:20260424T130541
CREATED:20250318T111721Z
LAST-MODIFIED:20250318T113006Z
UID:10004271-1745330400-1745334000@toursdemerle.fr
SUMMARY:Escarcelle à histoires - Contes en musique
DESCRIPTION:La compagnie Ambraluna vous convie à un voyage envoûtant mêlant récits et mélodies\, où contes et musique font résonner les histoires d’hier\, pour les oreilles d’aujourd’hui. Dans une ambiance intimiste au cœur du village des Tours de Merle\, laissez-vous transporter par des aventures fascinantes peuplées de rois\, de troubadours\, de princesses et d’êtres fantastiques. Quelques notes de musiques… et le voyage commence !
URL:https://toursdemerle.fr/event/escarcelle-a-histoires-contes-en-musique/2025-04-22/
ATTACH;FMTTYPE=:
END:VEVENT
END:VCALENDAR