BEGIN:VCALENDAR
VERSION:2.0
PRODID:-//Les Tours de Merle - Cité médiévale en Corrèze - ECPv6.15.18//NONSGML v1.0//EN
CALSCALE:GREGORIAN
METHOD:PUBLISH
X-ORIGINAL-URL:https://toursdemerle.fr
X-WR-CALDESC:Évènements pour Les Tours de Merle - Cité médiévale en Corrèze
REFRESH-INTERVAL;VALUE=DURATION:PT1H
X-Robots-Tag:noindex
X-PUBLISHED-TTL:PT1H
BEGIN:VTIMEZONE
TZID:Europe/Paris
BEGIN:DAYLIGHT
TZOFFSETFROM:+0100
TZOFFSETTO:+0200
TZNAME:CEST
DTSTART:20240331T010000
END:DAYLIGHT
BEGIN:STANDARD
TZOFFSETFROM:+0200
TZOFFSETTO:+0100
TZNAME:CET
DTSTART:20241027T010000
END:STANDARD
BEGIN:DAYLIGHT
TZOFFSETFROM:+0100
TZOFFSETTO:+0200
TZNAME:CEST
DTSTART:20250330T010000
END:DAYLIGHT
BEGIN:STANDARD
TZOFFSETFROM:+0200
TZOFFSETTO:+0100
TZNAME:CET
DTSTART:20251026T010000
END:STANDARD
BEGIN:DAYLIGHT
TZOFFSETFROM:+0100
TZOFFSETTO:+0200
TZNAME:CEST
DTSTART:20260329T010000
END:DAYLIGHT
BEGIN:STANDARD
TZOFFSETFROM:+0200
TZOFFSETTO:+0100
TZNAME:CET
DTSTART:20261025T010000
END:STANDARD
END:VTIMEZONE
BEGIN:VEVENT
DTSTART;TZID=Europe/Paris:20250825T110000
DTEND;TZID=Europe/Paris:20250825T123000
DTSTAMP:20260420T200529
CREATED:20240203T105656Z
LAST-MODIFIED:20250506T132003Z
UID:10004537-1756119600-1756125000@toursdemerle.fr
SUMMARY:Visite guidée (1H30)
DESCRIPTION:“Dans pas des seigneurs des Tours de Merle” est la visite guidée incontournable pour plonger dans l’histoire exceptionnelle des Tours de Merle ! Parcourez les chemins du castrum aux côtés d’un guide costumé et découvrez la vie médiévale des lieux\, ses habitants et les richesses naturelles qui les entourent.
URL:https://toursdemerle.fr/event/visite-guidee-classique-1h-2/2025-08-25/
CATEGORIES:Les Visites
ATTACH;FMTTYPE=image/jpeg:https://toursdemerle.fr/wp-content/uploads/2024/02/Les-Tours-de-Merle-animations-familles-Visite-les-apprentis-archeo@PierreLeygonie-2.jpg
END:VEVENT
BEGIN:VEVENT
DTSTART;TZID=Europe/Paris:20250826T150000
DTEND;TZID=Europe/Paris:20250826T160000
DTSTAMP:20260420T200529
CREATED:20250825T152628Z
LAST-MODIFIED:20251016T153211Z
UID:10004750-1756220400-1756224000@toursdemerle.fr
SUMMARY:Visite guidée (1h)
DESCRIPTION:“Dans pas des seigneurs des Tours de Merle” est la visite guidée incontournable pour plonger dans l’histoire exceptionnelle des Tours de Merle ! Parcourez les chemins du castrum aux côtés d’un guide costumé et découvrez la vie médiévale des lieux\, ses habitants et les richesses naturelles qui les entourent.
URL:https://toursdemerle.fr/event/visite-guidee-1h30/2025-08-26/
CATEGORIES:Les Visites
ATTACH;FMTTYPE=image/jpeg:https://toursdemerle.fr/wp-content/uploads/2024/02/Les-Tours-de-Merle-animations-familles-Visite-les-apprentis-archeo@PierreLeygonie-2.jpg
END:VEVENT
BEGIN:VEVENT
DTSTART;TZID=Europe/Paris:20250827T110000
DTEND;TZID=Europe/Paris:20250827T123000
DTSTAMP:20260420T200529
CREATED:20240203T105656Z
LAST-MODIFIED:20250506T132003Z
UID:10004539-1756292400-1756297800@toursdemerle.fr
SUMMARY:Visite guidée (1H30)
DESCRIPTION:“Dans pas des seigneurs des Tours de Merle” est la visite guidée incontournable pour plonger dans l’histoire exceptionnelle des Tours de Merle ! Parcourez les chemins du castrum aux côtés d’un guide costumé et découvrez la vie médiévale des lieux\, ses habitants et les richesses naturelles qui les entourent.
URL:https://toursdemerle.fr/event/visite-guidee-classique-1h-2/2025-08-27/
CATEGORIES:Les Visites
ATTACH;FMTTYPE=image/jpeg:https://toursdemerle.fr/wp-content/uploads/2024/02/Les-Tours-de-Merle-animations-familles-Visite-les-apprentis-archeo@PierreLeygonie-2.jpg
END:VEVENT
BEGIN:VEVENT
DTSTART;TZID=Europe/Paris:20250827T150000
DTEND;TZID=Europe/Paris:20250827T160000
DTSTAMP:20260420T200529
CREATED:20250825T152628Z
LAST-MODIFIED:20251016T153211Z
UID:10004751-1756306800-1756310400@toursdemerle.fr
SUMMARY:Visite guidée (1h)
DESCRIPTION:“Dans pas des seigneurs des Tours de Merle” est la visite guidée incontournable pour plonger dans l’histoire exceptionnelle des Tours de Merle ! Parcourez les chemins du castrum aux côtés d’un guide costumé et découvrez la vie médiévale des lieux\, ses habitants et les richesses naturelles qui les entourent.
URL:https://toursdemerle.fr/event/visite-guidee-1h30/2025-08-27/
CATEGORIES:Les Visites
ATTACH;FMTTYPE=image/jpeg:https://toursdemerle.fr/wp-content/uploads/2024/02/Les-Tours-de-Merle-animations-familles-Visite-les-apprentis-archeo@PierreLeygonie-2.jpg
END:VEVENT
BEGIN:VEVENT
DTSTART;TZID=Europe/Paris:20250828T110000
DTEND;TZID=Europe/Paris:20250828T123000
DTSTAMP:20260420T200529
CREATED:20240203T105656Z
LAST-MODIFIED:20250506T132003Z
UID:10004540-1756378800-1756384200@toursdemerle.fr
SUMMARY:Visite guidée (1H30)
DESCRIPTION:“Dans pas des seigneurs des Tours de Merle” est la visite guidée incontournable pour plonger dans l’histoire exceptionnelle des Tours de Merle ! Parcourez les chemins du castrum aux côtés d’un guide costumé et découvrez la vie médiévale des lieux\, ses habitants et les richesses naturelles qui les entourent.
URL:https://toursdemerle.fr/event/visite-guidee-classique-1h-2/2025-08-28/
CATEGORIES:Les Visites
ATTACH;FMTTYPE=image/jpeg:https://toursdemerle.fr/wp-content/uploads/2024/02/Les-Tours-de-Merle-animations-familles-Visite-les-apprentis-archeo@PierreLeygonie-2.jpg
END:VEVENT
BEGIN:VEVENT
DTSTART;TZID=Europe/Paris:20250828T150000
DTEND;TZID=Europe/Paris:20250828T160000
DTSTAMP:20260420T200529
CREATED:20250825T152628Z
LAST-MODIFIED:20251016T153211Z
UID:10004752-1756393200-1756396800@toursdemerle.fr
SUMMARY:Visite guidée (1h)
DESCRIPTION:“Dans pas des seigneurs des Tours de Merle” est la visite guidée incontournable pour plonger dans l’histoire exceptionnelle des Tours de Merle ! Parcourez les chemins du castrum aux côtés d’un guide costumé et découvrez la vie médiévale des lieux\, ses habitants et les richesses naturelles qui les entourent.
URL:https://toursdemerle.fr/event/visite-guidee-1h30/2025-08-28/
CATEGORIES:Les Visites
ATTACH;FMTTYPE=image/jpeg:https://toursdemerle.fr/wp-content/uploads/2024/02/Les-Tours-de-Merle-animations-familles-Visite-les-apprentis-archeo@PierreLeygonie-2.jpg
END:VEVENT
BEGIN:VEVENT
DTSTART;TZID=Europe/Paris:20250829T110000
DTEND;TZID=Europe/Paris:20250829T123000
DTSTAMP:20260420T200529
CREATED:20240203T105656Z
LAST-MODIFIED:20250506T132003Z
UID:10004541-1756465200-1756470600@toursdemerle.fr
SUMMARY:Visite guidée (1H30)
DESCRIPTION:“Dans pas des seigneurs des Tours de Merle” est la visite guidée incontournable pour plonger dans l’histoire exceptionnelle des Tours de Merle ! Parcourez les chemins du castrum aux côtés d’un guide costumé et découvrez la vie médiévale des lieux\, ses habitants et les richesses naturelles qui les entourent.
URL:https://toursdemerle.fr/event/visite-guidee-classique-1h-2/2025-08-29/
CATEGORIES:Les Visites
ATTACH;FMTTYPE=image/jpeg:https://toursdemerle.fr/wp-content/uploads/2024/02/Les-Tours-de-Merle-animations-familles-Visite-les-apprentis-archeo@PierreLeygonie-2.jpg
END:VEVENT
BEGIN:VEVENT
DTSTART;TZID=Europe/Paris:20250829T150000
DTEND;TZID=Europe/Paris:20250829T160000
DTSTAMP:20260420T200529
CREATED:20250825T152628Z
LAST-MODIFIED:20251016T153211Z
UID:10004753-1756479600-1756483200@toursdemerle.fr
SUMMARY:Visite guidée (1h)
DESCRIPTION:“Dans pas des seigneurs des Tours de Merle” est la visite guidée incontournable pour plonger dans l’histoire exceptionnelle des Tours de Merle ! Parcourez les chemins du castrum aux côtés d’un guide costumé et découvrez la vie médiévale des lieux\, ses habitants et les richesses naturelles qui les entourent.
URL:https://toursdemerle.fr/event/visite-guidee-1h30/2025-08-29/
CATEGORIES:Les Visites
ATTACH;FMTTYPE=image/jpeg:https://toursdemerle.fr/wp-content/uploads/2024/02/Les-Tours-de-Merle-animations-familles-Visite-les-apprentis-archeo@PierreLeygonie-2.jpg
END:VEVENT
BEGIN:VEVENT
DTSTART;TZID=Europe/Paris:20250830T110000
DTEND;TZID=Europe/Paris:20250830T123000
DTSTAMP:20260420T200529
CREATED:20240203T105656Z
LAST-MODIFIED:20250506T132003Z
UID:10004542-1756551600-1756557000@toursdemerle.fr
SUMMARY:Visite guidée (1H30)
DESCRIPTION:“Dans pas des seigneurs des Tours de Merle” est la visite guidée incontournable pour plonger dans l’histoire exceptionnelle des Tours de Merle ! Parcourez les chemins du castrum aux côtés d’un guide costumé et découvrez la vie médiévale des lieux\, ses habitants et les richesses naturelles qui les entourent.
URL:https://toursdemerle.fr/event/visite-guidee-classique-1h-2/2025-08-30/
CATEGORIES:Les Visites
ATTACH;FMTTYPE=image/jpeg:https://toursdemerle.fr/wp-content/uploads/2024/02/Les-Tours-de-Merle-animations-familles-Visite-les-apprentis-archeo@PierreLeygonie-2.jpg
END:VEVENT
BEGIN:VEVENT
DTSTART;TZID=Europe/Paris:20250830T150000
DTEND;TZID=Europe/Paris:20250830T160000
DTSTAMP:20260420T200529
CREATED:20250825T152628Z
LAST-MODIFIED:20251016T153211Z
UID:10004754-1756566000-1756569600@toursdemerle.fr
SUMMARY:Visite guidée (1h)
DESCRIPTION:“Dans pas des seigneurs des Tours de Merle” est la visite guidée incontournable pour plonger dans l’histoire exceptionnelle des Tours de Merle ! Parcourez les chemins du castrum aux côtés d’un guide costumé et découvrez la vie médiévale des lieux\, ses habitants et les richesses naturelles qui les entourent.
URL:https://toursdemerle.fr/event/visite-guidee-1h30/2025-08-30/
CATEGORIES:Les Visites
ATTACH;FMTTYPE=image/jpeg:https://toursdemerle.fr/wp-content/uploads/2024/02/Les-Tours-de-Merle-animations-familles-Visite-les-apprentis-archeo@PierreLeygonie-2.jpg
END:VEVENT
BEGIN:VEVENT
DTSTART;TZID=Europe/Paris:20250831T150000
DTEND;TZID=Europe/Paris:20250831T160000
DTSTAMP:20260420T200529
CREATED:20250825T152628Z
LAST-MODIFIED:20251016T153211Z
UID:10004755-1756652400-1756656000@toursdemerle.fr
SUMMARY:Visite guidée (1h)
DESCRIPTION:“Dans pas des seigneurs des Tours de Merle” est la visite guidée incontournable pour plonger dans l’histoire exceptionnelle des Tours de Merle ! Parcourez les chemins du castrum aux côtés d’un guide costumé et découvrez la vie médiévale des lieux\, ses habitants et les richesses naturelles qui les entourent.
URL:https://toursdemerle.fr/event/visite-guidee-1h30/2025-08-31/
CATEGORIES:Les Visites
ATTACH;FMTTYPE=image/jpeg:https://toursdemerle.fr/wp-content/uploads/2024/02/Les-Tours-de-Merle-animations-familles-Visite-les-apprentis-archeo@PierreLeygonie-2.jpg
END:VEVENT
END:VCALENDAR