BEGIN:VCALENDAR
VERSION:2.0
PRODID:-//Les Tours de Merle - Cité médiévale en Corrèze - ECPv6.15.18//NONSGML v1.0//EN
CALSCALE:GREGORIAN
METHOD:PUBLISH
X-ORIGINAL-URL:https://toursdemerle.fr
X-WR-CALDESC:Évènements pour Les Tours de Merle - Cité médiévale en Corrèze
REFRESH-INTERVAL;VALUE=DURATION:PT1H
X-Robots-Tag:noindex
X-PUBLISHED-TTL:PT1H
BEGIN:VTIMEZONE
TZID:Europe/Paris
BEGIN:DAYLIGHT
TZOFFSETFROM:+0100
TZOFFSETTO:+0200
TZNAME:CEST
DTSTART:20240331T010000
END:DAYLIGHT
BEGIN:STANDARD
TZOFFSETFROM:+0200
TZOFFSETTO:+0100
TZNAME:CET
DTSTART:20241027T010000
END:STANDARD
BEGIN:DAYLIGHT
TZOFFSETFROM:+0100
TZOFFSETTO:+0200
TZNAME:CEST
DTSTART:20250330T010000
END:DAYLIGHT
BEGIN:STANDARD
TZOFFSETFROM:+0200
TZOFFSETTO:+0100
TZNAME:CET
DTSTART:20251026T010000
END:STANDARD
BEGIN:DAYLIGHT
TZOFFSETFROM:+0100
TZOFFSETTO:+0200
TZNAME:CEST
DTSTART:20260329T010000
END:DAYLIGHT
BEGIN:STANDARD
TZOFFSETFROM:+0200
TZOFFSETTO:+0100
TZNAME:CET
DTSTART:20261025T010000
END:STANDARD
END:VTIMEZONE
BEGIN:VEVENT
DTSTART;TZID=Europe/Paris:20250607T110000
DTEND;TZID=Europe/Paris:20250607T123000
DTSTAMP:20260421T041514
CREATED:20240203T105656Z
LAST-MODIFIED:20250506T132003Z
UID:10004230-1749294000-1749299400@toursdemerle.fr
SUMMARY:Visite guidée (1H30)
DESCRIPTION:“Dans pas des seigneurs des Tours de Merle” est la visite guidée incontournable pour plonger dans l’histoire exceptionnelle des Tours de Merle ! Parcourez les chemins du castrum aux côtés d’un guide costumé et découvrez la vie médiévale des lieux\, ses habitants et les richesses naturelles qui les entourent.
URL:https://toursdemerle.fr/event/visite-guidee-classique-1h-2/2025-06-07/
CATEGORIES:Les Visites
ATTACH;FMTTYPE=image/jpeg:https://toursdemerle.fr/wp-content/uploads/2024/02/Les-Tours-de-Merle-animations-familles-Visite-les-apprentis-archeo@PierreLeygonie-2.jpg
END:VEVENT
BEGIN:VEVENT
DTSTART;TZID=Europe/Paris:20250607T150000
DTEND;TZID=Europe/Paris:20250607T161500
DTSTAMP:20260421T041514
CREATED:20240207T103229Z
LAST-MODIFIED:20250717T164559Z
UID:10003957-1749308400-1749312900@toursdemerle.fr
SUMMARY:Visite théâtralisée (1H15)
DESCRIPTION:Ne manquez pas la rocambolesque visite théâtralisée pour découvrir les Tours de Merle en s’amusant ! Prenez votre machine à voyager dans le temps et plongez en l’an 1357 ! Allez à la rencontre de Iolande de Biorc ou de Hugues de Merle et découvrez les secrets des Tours de Merle et de ses nombreux habitants ! \n 
URL:https://toursdemerle.fr/event/visite-theatralisee-1h15/2025-06-07/
CATEGORIES:Les Visites
ATTACH;FMTTYPE=image/jpeg:https://toursdemerle.fr/wp-content/uploads/2024/01/Les-Tours-de-Merle-animations-familles-Spectacle-Pagaille@PierreLeygonie-12.jpg
END:VEVENT
BEGIN:VEVENT
DTSTART;TZID=Europe/Paris:20250608T150000
DTEND;TZID=Europe/Paris:20250608T161500
DTSTAMP:20260421T041514
CREATED:20240207T103229Z
LAST-MODIFIED:20250717T164559Z
UID:10003958-1749394800-1749399300@toursdemerle.fr
SUMMARY:Visite théâtralisée (1H15)
DESCRIPTION:Ne manquez pas la rocambolesque visite théâtralisée pour découvrir les Tours de Merle en s’amusant ! Prenez votre machine à voyager dans le temps et plongez en l’an 1357 ! Allez à la rencontre de Iolande de Biorc ou de Hugues de Merle et découvrez les secrets des Tours de Merle et de ses nombreux habitants ! \n 
URL:https://toursdemerle.fr/event/visite-theatralisee-1h15/2025-06-08/
CATEGORIES:Les Visites
ATTACH;FMTTYPE=image/jpeg:https://toursdemerle.fr/wp-content/uploads/2024/01/Les-Tours-de-Merle-animations-familles-Spectacle-Pagaille@PierreLeygonie-12.jpg
END:VEVENT
END:VCALENDAR