BEGIN:VCALENDAR
VERSION:2.0
PRODID:-//Les Tours de Merle - Cité médiévale en Corrèze - ECPv6.15.18//NONSGML v1.0//EN
CALSCALE:GREGORIAN
METHOD:PUBLISH
X-WR-CALNAME:Les Tours de Merle - Cité médiévale en Corrèze
X-ORIGINAL-URL:https://toursdemerle.fr
X-WR-CALDESC:Évènements pour Les Tours de Merle - Cité médiévale en Corrèze
REFRESH-INTERVAL;VALUE=DURATION:PT1H
X-Robots-Tag:noindex
X-PUBLISHED-TTL:PT1H
BEGIN:VTIMEZONE
TZID:Europe/Paris
BEGIN:DAYLIGHT
TZOFFSETFROM:+0100
TZOFFSETTO:+0200
TZNAME:CEST
DTSTART:20230326T010000
END:DAYLIGHT
BEGIN:STANDARD
TZOFFSETFROM:+0200
TZOFFSETTO:+0100
TZNAME:CET
DTSTART:20231029T010000
END:STANDARD
BEGIN:DAYLIGHT
TZOFFSETFROM:+0100
TZOFFSETTO:+0200
TZNAME:CEST
DTSTART:20240331T010000
END:DAYLIGHT
BEGIN:STANDARD
TZOFFSETFROM:+0200
TZOFFSETTO:+0100
TZNAME:CET
DTSTART:20241027T010000
END:STANDARD
BEGIN:DAYLIGHT
TZOFFSETFROM:+0100
TZOFFSETTO:+0200
TZNAME:CEST
DTSTART:20250330T010000
END:DAYLIGHT
BEGIN:STANDARD
TZOFFSETFROM:+0200
TZOFFSETTO:+0100
TZNAME:CET
DTSTART:20251026T010000
END:STANDARD
END:VTIMEZONE
BEGIN:VEVENT
DTSTART;TZID=Europe/Paris:20240715T170000
DTEND;TZID=Europe/Paris:20240715T181500
DTSTAMP:20260422T031631
CREATED:20240207T103627Z
LAST-MODIFIED:20240807T135932Z
UID:10003375-1721062800-1721067300@toursdemerle.fr
SUMMARY:Visite théâtralisée (1h15)
DESCRIPTION:Ne manquez pas la rocambolesque visite théâtralisée pour découvrir les Tours de Merle en s’amusant ! Prenez votre machine à voyager dans le temps et plongez en plein cœur du Moyen âge ! Hélis de Merle vous invite à la suivre en cette journée de l’an 1225 et de découvrir les secrets de la forteresse des Tours de Merle et de ses habitants !
URL:https://toursdemerle.fr/event/visite-theatralisee-1h15-2/2024-07-15/
CATEGORIES:Les Visites
ATTACH;FMTTYPE=image/jpeg:https://toursdemerle.fr/wp-content/uploads/2024/01/Les-Tours-de-Merle-animations-familles-Spectacle-Pagaille@PierreLeygonie-12.jpg
END:VEVENT
BEGIN:VEVENT
DTSTART;TZID=Europe/Paris:20240716T100000
DTEND;TZID=Europe/Paris:20240716T130000
DTSTAMP:20260422T031631
CREATED:20240207T153907Z
LAST-MODIFIED:20240209T140055Z
UID:10002271-1721124000-1721134800@toursdemerle.fr
SUMMARY:L'art de la Forge
DESCRIPTION:Émerveillez-vous devant les étincelles de l’acier brûlant et de la force du forgeron pour faire d’un bout de métal brut une merveilleuse et splendide épée magique ! Découvrez les secrets de la forge avec Zant’art et devenez de vrais bonhommes !
URL:https://toursdemerle.fr/event/lart-de-la-forge/2024-07-16/1/
CATEGORIES:Les Animations
ATTACH;FMTTYPE=image/jpeg:https://toursdemerle.fr/wp-content/uploads/2024/02/Tours-de-Merles-Atelier-Forge-forgeron-2.jpg
END:VEVENT
BEGIN:VEVENT
DTSTART;TZID=Europe/Paris:20240716T110000
DTEND;TZID=Europe/Paris:20240716T123000
DTSTAMP:20260422T031631
CREATED:20240203T110027Z
LAST-MODIFIED:20240711T075136Z
UID:10000340-1721127600-1721133000@toursdemerle.fr
SUMMARY:Visite guidée classique
DESCRIPTION:“Dans les pas des seigneurs des Tours de Merle” est notre visite guidée classique et incontournable pour découvrir les Tours de Merle ! Arpentez les chemins du castrum et découvrez l’histoire médiévale des lieux\, de ses habitants et de ses atouts naturels en compagnie d’une guide costumée.
URL:https://toursdemerle.fr/event/visite-guidee-classique-3/2024-07-16/
CATEGORIES:Les Visites
ATTACH;FMTTYPE=image/jpeg:https://toursdemerle.fr/wp-content/uploads/2024/02/Les-Tours-de-Merle-animations-familles-Visite-les-apprentis-archeo@PierreLeygonie-2.jpg
END:VEVENT
BEGIN:VEVENT
DTSTART;TZID=Europe/Paris:20240716T140000
DTEND;TZID=Europe/Paris:20240716T180000
DTSTAMP:20260422T031631
CREATED:20240207T153907Z
LAST-MODIFIED:20240209T140055Z
UID:10002272-1721138400-1721152800@toursdemerle.fr
SUMMARY:L'art de la Forge
DESCRIPTION:Émerveillez-vous devant les étincelles de l’acier brûlant et de la force du forgeron pour faire d’un bout de métal brut une merveilleuse et splendide épée magique ! Découvrez les secrets de la forge avec Zant’art et devenez de vrais bonhommes !
URL:https://toursdemerle.fr/event/lart-de-la-forge/2024-07-16/2/
CATEGORIES:Les Animations
ATTACH;FMTTYPE=image/jpeg:https://toursdemerle.fr/wp-content/uploads/2024/02/Tours-de-Merles-Atelier-Forge-forgeron-2.jpg
END:VEVENT
BEGIN:VEVENT
DTSTART;TZID=Europe/Paris:20240716T170000
DTEND;TZID=Europe/Paris:20240716T181500
DTSTAMP:20260422T031631
CREATED:20240207T103627Z
LAST-MODIFIED:20240807T135932Z
UID:10003376-1721149200-1721153700@toursdemerle.fr
SUMMARY:Visite théâtralisée (1h15)
DESCRIPTION:Ne manquez pas la rocambolesque visite théâtralisée pour découvrir les Tours de Merle en s’amusant ! Prenez votre machine à voyager dans le temps et plongez en plein cœur du Moyen âge ! Hélis de Merle vous invite à la suivre en cette journée de l’an 1225 et de découvrir les secrets de la forteresse des Tours de Merle et de ses habitants !
URL:https://toursdemerle.fr/event/visite-theatralisee-1h15-2/2024-07-16/
CATEGORIES:Les Visites
ATTACH;FMTTYPE=image/jpeg:https://toursdemerle.fr/wp-content/uploads/2024/01/Les-Tours-de-Merle-animations-familles-Spectacle-Pagaille@PierreLeygonie-12.jpg
END:VEVENT
END:VCALENDAR