BEGIN:VCALENDAR
VERSION:2.0
PRODID:-//Les Tours de Merle - Cité médiévale en Corrèze - ECPv6.15.18//NONSGML v1.0//EN
CALSCALE:GREGORIAN
METHOD:PUBLISH
X-ORIGINAL-URL:https://toursdemerle.fr
X-WR-CALDESC:Évènements pour Les Tours de Merle - Cité médiévale en Corrèze
REFRESH-INTERVAL;VALUE=DURATION:PT1H
X-Robots-Tag:noindex
X-PUBLISHED-TTL:PT1H
BEGIN:VTIMEZONE
TZID:Europe/Paris
BEGIN:DAYLIGHT
TZOFFSETFROM:+0100
TZOFFSETTO:+0200
TZNAME:CEST
DTSTART:20240331T010000
END:DAYLIGHT
BEGIN:STANDARD
TZOFFSETFROM:+0200
TZOFFSETTO:+0100
TZNAME:CET
DTSTART:20241027T010000
END:STANDARD
BEGIN:DAYLIGHT
TZOFFSETFROM:+0100
TZOFFSETTO:+0200
TZNAME:CEST
DTSTART:20250330T010000
END:DAYLIGHT
BEGIN:STANDARD
TZOFFSETFROM:+0200
TZOFFSETTO:+0100
TZNAME:CET
DTSTART:20251026T010000
END:STANDARD
BEGIN:DAYLIGHT
TZOFFSETFROM:+0100
TZOFFSETTO:+0200
TZNAME:CEST
DTSTART:20260329T010000
END:DAYLIGHT
BEGIN:STANDARD
TZOFFSETFROM:+0200
TZOFFSETTO:+0100
TZNAME:CET
DTSTART:20261025T010000
END:STANDARD
END:VTIMEZONE
BEGIN:VEVENT
DTSTART;TZID=Europe/Paris:20250730T110000
DTEND;TZID=Europe/Paris:20250730T114500
DTSTAMP:20260420T233115
CREATED:20250429T141143Z
LAST-MODIFIED:20250429T141241Z
UID:10004340-1753873200-1753875900@toursdemerle.fr
SUMMARY:Spectacle "Destins de Chevaliers" (45min)
DESCRIPTION:Humour et action sont les maîtres mots de ce spectacle d’aventures qui mène tout droit au temps des chevaliers ! Il réunit neuf comédiens\, escrimeurs et cascadeurs autour d’une nouvelle farce médiévale aux combats spectaculaires et aux situations rocambolesques ! À la fin du spectacle\, les comédiens invitent les enfants à vivre des épreuves pour devenir chevaliers et chevaleresses des Tours de Merle !
URL:https://toursdemerle.fr/event/spectacle-45min-4/2025-07-30/
CATEGORIES:Les Animations
ATTACH;FMTTYPE=image/jpeg:https://toursdemerle.fr/wp-content/uploads/2024/01/Les-Tours-de-Merle-animations-familles-Spectacle-Pagaille@PierreLeygonie-27.jpg
END:VEVENT
BEGIN:VEVENT
DTSTART;TZID=Europe/Paris:20250730T110000
DTEND;TZID=Europe/Paris:20250730T123000
DTSTAMP:20260420T233115
CREATED:20240203T105656Z
LAST-MODIFIED:20250506T132003Z
UID:10004409-1753873200-1753878600@toursdemerle.fr
SUMMARY:Visite guidée (1H30)
DESCRIPTION:“Dans pas des seigneurs des Tours de Merle” est la visite guidée incontournable pour plonger dans l’histoire exceptionnelle des Tours de Merle ! Parcourez les chemins du castrum aux côtés d’un guide costumé et découvrez la vie médiévale des lieux\, ses habitants et les richesses naturelles qui les entourent.
URL:https://toursdemerle.fr/event/visite-guidee-classique-1h-2/2025-07-30/
CATEGORIES:Les Visites
ATTACH;FMTTYPE=image/jpeg:https://toursdemerle.fr/wp-content/uploads/2024/02/Les-Tours-de-Merle-animations-familles-Visite-les-apprentis-archeo@PierreLeygonie-2.jpg
END:VEVENT
BEGIN:VEVENT
DTSTART;TZID=Europe/Paris:20250730T143000
DTEND;TZID=Europe/Paris:20250730T151500
DTSTAMP:20260420T233115
CREATED:20250429T142253Z
LAST-MODIFIED:20250429T142521Z
UID:10004356-1753885800-1753888500@toursdemerle.fr
SUMMARY:Spectacle "Destins de Chevaliers " (45min)
DESCRIPTION:Humour et action sont les maîtres mots de ce spectacle d’aventures qui mène tout droit au temps des chevaliers ! Il réunit neuf comédiens\, escrimeurs et cascadeurs autour d’une nouvelle farce médiévale aux combats spectaculaires et aux situations rocambolesques ! À la fin du spectacle\, les comédiens invitent les enfants à vivre des épreuves pour devenir chevaliers et chevaleresses des Tours de Merle !
URL:https://toursdemerle.fr/event/spectacle-45min-2-2/2025-07-30/
CATEGORIES:Les Animations
ATTACH;FMTTYPE=image/jpeg:https://toursdemerle.fr/wp-content/uploads/2024/01/Les-Tours-de-Merle-animations-familles-Spectacle-Pagaille@PierreLeygonie-27.jpg
END:VEVENT
BEGIN:VEVENT
DTSTART;TZID=Europe/Paris:20250730T150000
DTEND;TZID=Europe/Paris:20250730T160000
DTSTAMP:20260420T233115
CREATED:20250313T085500Z
LAST-MODIFIED:20250825T105440Z
UID:10004498-1753887600-1753891200@toursdemerle.fr
SUMMARY:Visite guidée (1H)
DESCRIPTION:“Dans pas des seigneurs des Tours de Merle” est la visite guidée incontournable pour plonger dans l’histoire exceptionnelle des Tours de Merle ! Parcourez les chemins du castrum aux côtés d’un guide costumé et découvrez la vie médiévale des lieux\, ses habitants et les richesses naturelles qui les entourent.
URL:https://toursdemerle.fr/event/visite-guidee-classique-1h-3/2025-07-30/
CATEGORIES:Les Visites
ATTACH;FMTTYPE=image/jpeg:https://toursdemerle.fr/wp-content/uploads/2024/02/Les-Tours-de-Merle-animations-familles-Visite-les-apprentis-archeo@PierreLeygonie-2.jpg
END:VEVENT
BEGIN:VEVENT
DTSTART;TZID=Europe/Paris:20250730T170000
DTEND;TZID=Europe/Paris:20250730T174500
DTSTAMP:20260420T233115
CREATED:20250429T140220Z
LAST-MODIFIED:20250429T140652Z
UID:10004324-1753894800-1753897500@toursdemerle.fr
SUMMARY:Spectacle "Destins de Chevaliers" (45min)
DESCRIPTION:Humour et action sont les maîtres mots de ce spectacle d’aventures qui mène tout droit au temps des chevaliers ! Il réunit neuf comédiens\, escrimeurs et cascadeurs autour d’une nouvelle farce médiévale aux combats spectaculaires et aux situations rocambolesques ! À la fin du spectacle\, les comédiens invitent les enfants à vivre des épreuves pour devenir chevaliers et chevaleresses des Tours de Merle !
URL:https://toursdemerle.fr/event/spectacle-45min-3-2/2025-07-30/
CATEGORIES:Les Animations
ATTACH;FMTTYPE=image/jpeg:https://toursdemerle.fr/wp-content/uploads/2024/01/Les-Tours-de-Merle-animations-familles-Spectacle-Pagaille@PierreLeygonie-27.jpg
END:VEVENT
BEGIN:VEVENT
DTSTART;TZID=Europe/Paris:20250731T110000
DTEND;TZID=Europe/Paris:20250731T114500
DTSTAMP:20260420T233115
CREATED:20250429T141143Z
LAST-MODIFIED:20250429T141241Z
UID:10004341-1753959600-1753962300@toursdemerle.fr
SUMMARY:Spectacle "Destins de Chevaliers" (45min)
DESCRIPTION:Humour et action sont les maîtres mots de ce spectacle d’aventures qui mène tout droit au temps des chevaliers ! Il réunit neuf comédiens\, escrimeurs et cascadeurs autour d’une nouvelle farce médiévale aux combats spectaculaires et aux situations rocambolesques ! À la fin du spectacle\, les comédiens invitent les enfants à vivre des épreuves pour devenir chevaliers et chevaleresses des Tours de Merle !
URL:https://toursdemerle.fr/event/spectacle-45min-4/2025-07-31/
CATEGORIES:Les Animations
ATTACH;FMTTYPE=image/jpeg:https://toursdemerle.fr/wp-content/uploads/2024/01/Les-Tours-de-Merle-animations-familles-Spectacle-Pagaille@PierreLeygonie-27.jpg
END:VEVENT
BEGIN:VEVENT
DTSTART;TZID=Europe/Paris:20250731T110000
DTEND;TZID=Europe/Paris:20250731T123000
DTSTAMP:20260420T233115
CREATED:20240203T105656Z
LAST-MODIFIED:20250506T132003Z
UID:10004410-1753959600-1753965000@toursdemerle.fr
SUMMARY:Visite guidée (1H30)
DESCRIPTION:“Dans pas des seigneurs des Tours de Merle” est la visite guidée incontournable pour plonger dans l’histoire exceptionnelle des Tours de Merle ! Parcourez les chemins du castrum aux côtés d’un guide costumé et découvrez la vie médiévale des lieux\, ses habitants et les richesses naturelles qui les entourent.
URL:https://toursdemerle.fr/event/visite-guidee-classique-1h-2/2025-07-31/
CATEGORIES:Les Visites
ATTACH;FMTTYPE=image/jpeg:https://toursdemerle.fr/wp-content/uploads/2024/02/Les-Tours-de-Merle-animations-familles-Visite-les-apprentis-archeo@PierreLeygonie-2.jpg
END:VEVENT
BEGIN:VEVENT
DTSTART;TZID=Europe/Paris:20250731T143000
DTEND;TZID=Europe/Paris:20250731T151500
DTSTAMP:20260420T233115
CREATED:20250429T142253Z
LAST-MODIFIED:20250429T142521Z
UID:10004357-1753972200-1753974900@toursdemerle.fr
SUMMARY:Spectacle "Destins de Chevaliers " (45min)
DESCRIPTION:Humour et action sont les maîtres mots de ce spectacle d’aventures qui mène tout droit au temps des chevaliers ! Il réunit neuf comédiens\, escrimeurs et cascadeurs autour d’une nouvelle farce médiévale aux combats spectaculaires et aux situations rocambolesques ! À la fin du spectacle\, les comédiens invitent les enfants à vivre des épreuves pour devenir chevaliers et chevaleresses des Tours de Merle !
URL:https://toursdemerle.fr/event/spectacle-45min-2-2/2025-07-31/
CATEGORIES:Les Animations
ATTACH;FMTTYPE=image/jpeg:https://toursdemerle.fr/wp-content/uploads/2024/01/Les-Tours-de-Merle-animations-familles-Spectacle-Pagaille@PierreLeygonie-27.jpg
END:VEVENT
BEGIN:VEVENT
DTSTART;TZID=Europe/Paris:20250731T150000
DTEND;TZID=Europe/Paris:20250731T160000
DTSTAMP:20260420T233115
CREATED:20250313T085500Z
LAST-MODIFIED:20250825T105440Z
UID:10004499-1753974000-1753977600@toursdemerle.fr
SUMMARY:Visite guidée (1H)
DESCRIPTION:“Dans pas des seigneurs des Tours de Merle” est la visite guidée incontournable pour plonger dans l’histoire exceptionnelle des Tours de Merle ! Parcourez les chemins du castrum aux côtés d’un guide costumé et découvrez la vie médiévale des lieux\, ses habitants et les richesses naturelles qui les entourent.
URL:https://toursdemerle.fr/event/visite-guidee-classique-1h-3/2025-07-31/
CATEGORIES:Les Visites
ATTACH;FMTTYPE=image/jpeg:https://toursdemerle.fr/wp-content/uploads/2024/02/Les-Tours-de-Merle-animations-familles-Visite-les-apprentis-archeo@PierreLeygonie-2.jpg
END:VEVENT
BEGIN:VEVENT
DTSTART;TZID=Europe/Paris:20250731T170000
DTEND;TZID=Europe/Paris:20250731T174500
DTSTAMP:20260420T233115
CREATED:20250429T140220Z
LAST-MODIFIED:20250429T140652Z
UID:10004325-1753981200-1753983900@toursdemerle.fr
SUMMARY:Spectacle "Destins de Chevaliers" (45min)
DESCRIPTION:Humour et action sont les maîtres mots de ce spectacle d’aventures qui mène tout droit au temps des chevaliers ! Il réunit neuf comédiens\, escrimeurs et cascadeurs autour d’une nouvelle farce médiévale aux combats spectaculaires et aux situations rocambolesques ! À la fin du spectacle\, les comédiens invitent les enfants à vivre des épreuves pour devenir chevaliers et chevaleresses des Tours de Merle !
URL:https://toursdemerle.fr/event/spectacle-45min-3-2/2025-07-31/
CATEGORIES:Les Animations
ATTACH;FMTTYPE=image/jpeg:https://toursdemerle.fr/wp-content/uploads/2024/01/Les-Tours-de-Merle-animations-familles-Spectacle-Pagaille@PierreLeygonie-27.jpg
END:VEVENT
BEGIN:VEVENT
DTSTART;TZID=Europe/Paris:20250731T190000
DTEND;TZID=Europe/Paris:20250731T213000
DTSTAMP:20260420T233115
CREATED:20250505T121730Z
LAST-MODIFIED:20250717T163240Z
UID:10004509-1753988400-1753997400@toursdemerle.fr
SUMMARY:Jeu d'enquête : "Qui a tué le seigneur de Rochedragon ?" (2H30)
DESCRIPTION:Vous voilà plongés en l’an de grâce 1255. Une rumeur court entre les murs des Tours de Merle : le seigneur Adhémar de Rochedragon a été assassiné ! Alaïs\, trobairitz de renom et fine enquêtrice\, a besoin de renfort : rejoignez le groupe et suivez-la dans une aventure grandeur nature au cœur des Tours de Merle et tentez de percer le mystère. Ensemble\, arpentez les chemins\, interrogez les habitants et récoltez les indices…\nMais attention : le coupable se cache peut-être tout près de vous ! Entre rebondissements\, rencontres inattendues et secrets bien gardés\, laissez-vous porter par une soirée immersive mêlant enquête\, théâtre et patrimoine.
URL:https://toursdemerle.fr/event/jeu-denquete-2h30-2/2025-07-31/
CATEGORIES:Les Soirées
ATTACH;FMTTYPE=image/jpeg:https://toursdemerle.fr/wp-content/uploads/2024/02/programme-activites-animations-tours-de-merle.jpg
END:VEVENT
BEGIN:VEVENT
DTSTART;TZID=Europe/Paris:20250801T110000
DTEND;TZID=Europe/Paris:20250801T114500
DTSTAMP:20260420T233115
CREATED:20250429T141143Z
LAST-MODIFIED:20250429T141241Z
UID:10004342-1754046000-1754048700@toursdemerle.fr
SUMMARY:Spectacle "Destins de Chevaliers" (45min)
DESCRIPTION:Humour et action sont les maîtres mots de ce spectacle d’aventures qui mène tout droit au temps des chevaliers ! Il réunit neuf comédiens\, escrimeurs et cascadeurs autour d’une nouvelle farce médiévale aux combats spectaculaires et aux situations rocambolesques ! À la fin du spectacle\, les comédiens invitent les enfants à vivre des épreuves pour devenir chevaliers et chevaleresses des Tours de Merle !
URL:https://toursdemerle.fr/event/spectacle-45min-4/2025-08-01/
CATEGORIES:Les Animations
ATTACH;FMTTYPE=image/jpeg:https://toursdemerle.fr/wp-content/uploads/2024/01/Les-Tours-de-Merle-animations-familles-Spectacle-Pagaille@PierreLeygonie-27.jpg
END:VEVENT
BEGIN:VEVENT
DTSTART;TZID=Europe/Paris:20250801T110000
DTEND;TZID=Europe/Paris:20250801T123000
DTSTAMP:20260420T233115
CREATED:20240203T105656Z
LAST-MODIFIED:20250506T132003Z
UID:10004517-1754046000-1754051400@toursdemerle.fr
SUMMARY:Visite guidée (1H30)
DESCRIPTION:“Dans pas des seigneurs des Tours de Merle” est la visite guidée incontournable pour plonger dans l’histoire exceptionnelle des Tours de Merle ! Parcourez les chemins du castrum aux côtés d’un guide costumé et découvrez la vie médiévale des lieux\, ses habitants et les richesses naturelles qui les entourent.
URL:https://toursdemerle.fr/event/visite-guidee-classique-1h-2/2025-08-01/
CATEGORIES:Les Visites
ATTACH;FMTTYPE=image/jpeg:https://toursdemerle.fr/wp-content/uploads/2024/02/Les-Tours-de-Merle-animations-familles-Visite-les-apprentis-archeo@PierreLeygonie-2.jpg
END:VEVENT
BEGIN:VEVENT
DTSTART;TZID=Europe/Paris:20250801T143000
DTEND;TZID=Europe/Paris:20250801T151500
DTSTAMP:20260420T233115
CREATED:20250429T142253Z
LAST-MODIFIED:20250429T142521Z
UID:10004358-1754058600-1754061300@toursdemerle.fr
SUMMARY:Spectacle "Destins de Chevaliers " (45min)
DESCRIPTION:Humour et action sont les maîtres mots de ce spectacle d’aventures qui mène tout droit au temps des chevaliers ! Il réunit neuf comédiens\, escrimeurs et cascadeurs autour d’une nouvelle farce médiévale aux combats spectaculaires et aux situations rocambolesques ! À la fin du spectacle\, les comédiens invitent les enfants à vivre des épreuves pour devenir chevaliers et chevaleresses des Tours de Merle !
URL:https://toursdemerle.fr/event/spectacle-45min-2-2/2025-08-01/
CATEGORIES:Les Animations
ATTACH;FMTTYPE=image/jpeg:https://toursdemerle.fr/wp-content/uploads/2024/01/Les-Tours-de-Merle-animations-familles-Spectacle-Pagaille@PierreLeygonie-27.jpg
END:VEVENT
BEGIN:VEVENT
DTSTART;TZID=Europe/Paris:20250801T150000
DTEND;TZID=Europe/Paris:20250801T160000
DTSTAMP:20260420T233115
CREATED:20250313T085500Z
LAST-MODIFIED:20250825T105440Z
UID:10004551-1754060400-1754064000@toursdemerle.fr
SUMMARY:Visite guidée (1H)
DESCRIPTION:“Dans pas des seigneurs des Tours de Merle” est la visite guidée incontournable pour plonger dans l’histoire exceptionnelle des Tours de Merle ! Parcourez les chemins du castrum aux côtés d’un guide costumé et découvrez la vie médiévale des lieux\, ses habitants et les richesses naturelles qui les entourent.
URL:https://toursdemerle.fr/event/visite-guidee-classique-1h-3/2025-08-01/
CATEGORIES:Les Visites
ATTACH;FMTTYPE=image/jpeg:https://toursdemerle.fr/wp-content/uploads/2024/02/Les-Tours-de-Merle-animations-familles-Visite-les-apprentis-archeo@PierreLeygonie-2.jpg
END:VEVENT
BEGIN:VEVENT
DTSTART;TZID=Europe/Paris:20250801T170000
DTEND;TZID=Europe/Paris:20250801T174500
DTSTAMP:20260420T233115
CREATED:20250429T140220Z
LAST-MODIFIED:20250429T140652Z
UID:10004326-1754067600-1754070300@toursdemerle.fr
SUMMARY:Spectacle "Destins de Chevaliers" (45min)
DESCRIPTION:Humour et action sont les maîtres mots de ce spectacle d’aventures qui mène tout droit au temps des chevaliers ! Il réunit neuf comédiens\, escrimeurs et cascadeurs autour d’une nouvelle farce médiévale aux combats spectaculaires et aux situations rocambolesques ! À la fin du spectacle\, les comédiens invitent les enfants à vivre des épreuves pour devenir chevaliers et chevaleresses des Tours de Merle !
URL:https://toursdemerle.fr/event/spectacle-45min-3-2/2025-08-01/
CATEGORIES:Les Animations
ATTACH;FMTTYPE=image/jpeg:https://toursdemerle.fr/wp-content/uploads/2024/01/Les-Tours-de-Merle-animations-familles-Spectacle-Pagaille@PierreLeygonie-27.jpg
END:VEVENT
BEGIN:VEVENT
DTSTART;TZID=Europe/Paris:20250802T110000
DTEND;TZID=Europe/Paris:20250802T123000
DTSTAMP:20260420T233115
CREATED:20240203T105656Z
LAST-MODIFIED:20250506T132003Z
UID:10004518-1754132400-1754137800@toursdemerle.fr
SUMMARY:Visite guidée (1H30)
DESCRIPTION:“Dans pas des seigneurs des Tours de Merle” est la visite guidée incontournable pour plonger dans l’histoire exceptionnelle des Tours de Merle ! Parcourez les chemins du castrum aux côtés d’un guide costumé et découvrez la vie médiévale des lieux\, ses habitants et les richesses naturelles qui les entourent.
URL:https://toursdemerle.fr/event/visite-guidee-classique-1h-2/2025-08-02/
CATEGORIES:Les Visites
ATTACH;FMTTYPE=image/jpeg:https://toursdemerle.fr/wp-content/uploads/2024/02/Les-Tours-de-Merle-animations-familles-Visite-les-apprentis-archeo@PierreLeygonie-2.jpg
END:VEVENT
BEGIN:VEVENT
DTSTART;TZID=Europe/Paris:20250802T150000
DTEND;TZID=Europe/Paris:20250802T160000
DTSTAMP:20260420T233115
CREATED:20250313T085500Z
LAST-MODIFIED:20250825T105440Z
UID:10004552-1754146800-1754150400@toursdemerle.fr
SUMMARY:Visite guidée (1H)
DESCRIPTION:“Dans pas des seigneurs des Tours de Merle” est la visite guidée incontournable pour plonger dans l’histoire exceptionnelle des Tours de Merle ! Parcourez les chemins du castrum aux côtés d’un guide costumé et découvrez la vie médiévale des lieux\, ses habitants et les richesses naturelles qui les entourent.
URL:https://toursdemerle.fr/event/visite-guidee-classique-1h-3/2025-08-02/
CATEGORIES:Les Visites
ATTACH;FMTTYPE=image/jpeg:https://toursdemerle.fr/wp-content/uploads/2024/02/Les-Tours-de-Merle-animations-familles-Visite-les-apprentis-archeo@PierreLeygonie-2.jpg
END:VEVENT
BEGIN:VEVENT
DTSTART;TZID=Europe/Paris:20250803T150000
DTEND;TZID=Europe/Paris:20250803T160000
DTSTAMP:20260420T233115
CREATED:20250313T085500Z
LAST-MODIFIED:20250825T105440Z
UID:10004553-1754233200-1754236800@toursdemerle.fr
SUMMARY:Visite guidée (1H)
DESCRIPTION:“Dans pas des seigneurs des Tours de Merle” est la visite guidée incontournable pour plonger dans l’histoire exceptionnelle des Tours de Merle ! Parcourez les chemins du castrum aux côtés d’un guide costumé et découvrez la vie médiévale des lieux\, ses habitants et les richesses naturelles qui les entourent.
URL:https://toursdemerle.fr/event/visite-guidee-classique-1h-3/2025-08-03/
CATEGORIES:Les Visites
ATTACH;FMTTYPE=image/jpeg:https://toursdemerle.fr/wp-content/uploads/2024/02/Les-Tours-de-Merle-animations-familles-Visite-les-apprentis-archeo@PierreLeygonie-2.jpg
END:VEVENT
BEGIN:VEVENT
DTSTART;TZID=Europe/Paris:20250804T110000
DTEND;TZID=Europe/Paris:20250804T114500
DTSTAMP:20260420T233115
CREATED:20250429T141143Z
LAST-MODIFIED:20250429T141241Z
UID:10004343-1754305200-1754307900@toursdemerle.fr
SUMMARY:Spectacle "Destins de Chevaliers" (45min)
DESCRIPTION:Humour et action sont les maîtres mots de ce spectacle d’aventures qui mène tout droit au temps des chevaliers ! Il réunit neuf comédiens\, escrimeurs et cascadeurs autour d’une nouvelle farce médiévale aux combats spectaculaires et aux situations rocambolesques ! À la fin du spectacle\, les comédiens invitent les enfants à vivre des épreuves pour devenir chevaliers et chevaleresses des Tours de Merle !
URL:https://toursdemerle.fr/event/spectacle-45min-4/2025-08-04/
CATEGORIES:Les Animations
ATTACH;FMTTYPE=image/jpeg:https://toursdemerle.fr/wp-content/uploads/2024/01/Les-Tours-de-Merle-animations-familles-Spectacle-Pagaille@PierreLeygonie-27.jpg
END:VEVENT
BEGIN:VEVENT
DTSTART;TZID=Europe/Paris:20250804T110000
DTEND;TZID=Europe/Paris:20250804T123000
DTSTAMP:20260420T233115
CREATED:20240203T105656Z
LAST-MODIFIED:20250506T132003Z
UID:10004519-1754305200-1754310600@toursdemerle.fr
SUMMARY:Visite guidée (1H30)
DESCRIPTION:“Dans pas des seigneurs des Tours de Merle” est la visite guidée incontournable pour plonger dans l’histoire exceptionnelle des Tours de Merle ! Parcourez les chemins du castrum aux côtés d’un guide costumé et découvrez la vie médiévale des lieux\, ses habitants et les richesses naturelles qui les entourent.
URL:https://toursdemerle.fr/event/visite-guidee-classique-1h-2/2025-08-04/
CATEGORIES:Les Visites
ATTACH;FMTTYPE=image/jpeg:https://toursdemerle.fr/wp-content/uploads/2024/02/Les-Tours-de-Merle-animations-familles-Visite-les-apprentis-archeo@PierreLeygonie-2.jpg
END:VEVENT
BEGIN:VEVENT
DTSTART;TZID=Europe/Paris:20250804T143000
DTEND;TZID=Europe/Paris:20250804T151500
DTSTAMP:20260420T233115
CREATED:20250429T142253Z
LAST-MODIFIED:20250429T142521Z
UID:10004359-1754317800-1754320500@toursdemerle.fr
SUMMARY:Spectacle "Destins de Chevaliers " (45min)
DESCRIPTION:Humour et action sont les maîtres mots de ce spectacle d’aventures qui mène tout droit au temps des chevaliers ! Il réunit neuf comédiens\, escrimeurs et cascadeurs autour d’une nouvelle farce médiévale aux combats spectaculaires et aux situations rocambolesques ! À la fin du spectacle\, les comédiens invitent les enfants à vivre des épreuves pour devenir chevaliers et chevaleresses des Tours de Merle !
URL:https://toursdemerle.fr/event/spectacle-45min-2-2/2025-08-04/
CATEGORIES:Les Animations
ATTACH;FMTTYPE=image/jpeg:https://toursdemerle.fr/wp-content/uploads/2024/01/Les-Tours-de-Merle-animations-familles-Spectacle-Pagaille@PierreLeygonie-27.jpg
END:VEVENT
BEGIN:VEVENT
DTSTART;TZID=Europe/Paris:20250804T150000
DTEND;TZID=Europe/Paris:20250804T160000
DTSTAMP:20260420T233115
CREATED:20250313T085500Z
LAST-MODIFIED:20250825T105440Z
UID:10004554-1754319600-1754323200@toursdemerle.fr
SUMMARY:Visite guidée (1H)
DESCRIPTION:“Dans pas des seigneurs des Tours de Merle” est la visite guidée incontournable pour plonger dans l’histoire exceptionnelle des Tours de Merle ! Parcourez les chemins du castrum aux côtés d’un guide costumé et découvrez la vie médiévale des lieux\, ses habitants et les richesses naturelles qui les entourent.
URL:https://toursdemerle.fr/event/visite-guidee-classique-1h-3/2025-08-04/
CATEGORIES:Les Visites
ATTACH;FMTTYPE=image/jpeg:https://toursdemerle.fr/wp-content/uploads/2024/02/Les-Tours-de-Merle-animations-familles-Visite-les-apprentis-archeo@PierreLeygonie-2.jpg
END:VEVENT
BEGIN:VEVENT
DTSTART;TZID=Europe/Paris:20250804T170000
DTEND;TZID=Europe/Paris:20250804T174500
DTSTAMP:20260420T233115
CREATED:20250429T140220Z
LAST-MODIFIED:20250429T140652Z
UID:10004327-1754326800-1754329500@toursdemerle.fr
SUMMARY:Spectacle "Destins de Chevaliers" (45min)
DESCRIPTION:Humour et action sont les maîtres mots de ce spectacle d’aventures qui mène tout droit au temps des chevaliers ! Il réunit neuf comédiens\, escrimeurs et cascadeurs autour d’une nouvelle farce médiévale aux combats spectaculaires et aux situations rocambolesques ! À la fin du spectacle\, les comédiens invitent les enfants à vivre des épreuves pour devenir chevaliers et chevaleresses des Tours de Merle !
URL:https://toursdemerle.fr/event/spectacle-45min-3-2/2025-08-04/
CATEGORIES:Les Animations
ATTACH;FMTTYPE=image/jpeg:https://toursdemerle.fr/wp-content/uploads/2024/01/Les-Tours-de-Merle-animations-familles-Spectacle-Pagaille@PierreLeygonie-27.jpg
END:VEVENT
BEGIN:VEVENT
DTSTART;TZID=Europe/Paris:20250804T190000
DTEND;TZID=Europe/Paris:20250804T213000
DTSTAMP:20260420T233115
CREATED:20250505T121730Z
LAST-MODIFIED:20250717T163240Z
UID:10004510-1754334000-1754343000@toursdemerle.fr
SUMMARY:Jeu d'enquête : "Qui a tué le seigneur de Rochedragon ?" (2H30)
DESCRIPTION:Vous voilà plongés en l’an de grâce 1255. Une rumeur court entre les murs des Tours de Merle : le seigneur Adhémar de Rochedragon a été assassiné ! Alaïs\, trobairitz de renom et fine enquêtrice\, a besoin de renfort : rejoignez le groupe et suivez-la dans une aventure grandeur nature au cœur des Tours de Merle et tentez de percer le mystère. Ensemble\, arpentez les chemins\, interrogez les habitants et récoltez les indices…\nMais attention : le coupable se cache peut-être tout près de vous ! Entre rebondissements\, rencontres inattendues et secrets bien gardés\, laissez-vous porter par une soirée immersive mêlant enquête\, théâtre et patrimoine.
URL:https://toursdemerle.fr/event/jeu-denquete-2h30-2/2025-08-04/
CATEGORIES:Les Soirées
ATTACH;FMTTYPE=image/jpeg:https://toursdemerle.fr/wp-content/uploads/2024/02/programme-activites-animations-tours-de-merle.jpg
END:VEVENT
BEGIN:VEVENT
DTSTART;TZID=Europe/Paris:20250805T110000
DTEND;TZID=Europe/Paris:20250805T114500
DTSTAMP:20260420T233115
CREATED:20250429T141143Z
LAST-MODIFIED:20250429T141241Z
UID:10004344-1754391600-1754394300@toursdemerle.fr
SUMMARY:Spectacle "Destins de Chevaliers" (45min)
DESCRIPTION:Humour et action sont les maîtres mots de ce spectacle d’aventures qui mène tout droit au temps des chevaliers ! Il réunit neuf comédiens\, escrimeurs et cascadeurs autour d’une nouvelle farce médiévale aux combats spectaculaires et aux situations rocambolesques ! À la fin du spectacle\, les comédiens invitent les enfants à vivre des épreuves pour devenir chevaliers et chevaleresses des Tours de Merle !
URL:https://toursdemerle.fr/event/spectacle-45min-4/2025-08-05/
CATEGORIES:Les Animations
ATTACH;FMTTYPE=image/jpeg:https://toursdemerle.fr/wp-content/uploads/2024/01/Les-Tours-de-Merle-animations-familles-Spectacle-Pagaille@PierreLeygonie-27.jpg
END:VEVENT
BEGIN:VEVENT
DTSTART;TZID=Europe/Paris:20250805T110000
DTEND;TZID=Europe/Paris:20250805T123000
DTSTAMP:20260420T233115
CREATED:20240203T105656Z
LAST-MODIFIED:20250506T132003Z
UID:10004520-1754391600-1754397000@toursdemerle.fr
SUMMARY:Visite guidée (1H30)
DESCRIPTION:“Dans pas des seigneurs des Tours de Merle” est la visite guidée incontournable pour plonger dans l’histoire exceptionnelle des Tours de Merle ! Parcourez les chemins du castrum aux côtés d’un guide costumé et découvrez la vie médiévale des lieux\, ses habitants et les richesses naturelles qui les entourent.
URL:https://toursdemerle.fr/event/visite-guidee-classique-1h-2/2025-08-05/
CATEGORIES:Les Visites
ATTACH;FMTTYPE=image/jpeg:https://toursdemerle.fr/wp-content/uploads/2024/02/Les-Tours-de-Merle-animations-familles-Visite-les-apprentis-archeo@PierreLeygonie-2.jpg
END:VEVENT
BEGIN:VEVENT
DTSTART;TZID=Europe/Paris:20250805T143000
DTEND;TZID=Europe/Paris:20250805T151500
DTSTAMP:20260420T233115
CREATED:20250429T142253Z
LAST-MODIFIED:20250429T142521Z
UID:10004360-1754404200-1754406900@toursdemerle.fr
SUMMARY:Spectacle "Destins de Chevaliers " (45min)
DESCRIPTION:Humour et action sont les maîtres mots de ce spectacle d’aventures qui mène tout droit au temps des chevaliers ! Il réunit neuf comédiens\, escrimeurs et cascadeurs autour d’une nouvelle farce médiévale aux combats spectaculaires et aux situations rocambolesques ! À la fin du spectacle\, les comédiens invitent les enfants à vivre des épreuves pour devenir chevaliers et chevaleresses des Tours de Merle !
URL:https://toursdemerle.fr/event/spectacle-45min-2-2/2025-08-05/
CATEGORIES:Les Animations
ATTACH;FMTTYPE=image/jpeg:https://toursdemerle.fr/wp-content/uploads/2024/01/Les-Tours-de-Merle-animations-familles-Spectacle-Pagaille@PierreLeygonie-27.jpg
END:VEVENT
BEGIN:VEVENT
DTSTART;TZID=Europe/Paris:20250805T150000
DTEND;TZID=Europe/Paris:20250805T160000
DTSTAMP:20260420T233115
CREATED:20250313T085500Z
LAST-MODIFIED:20250825T105440Z
UID:10004555-1754406000-1754409600@toursdemerle.fr
SUMMARY:Visite guidée (1H)
DESCRIPTION:“Dans pas des seigneurs des Tours de Merle” est la visite guidée incontournable pour plonger dans l’histoire exceptionnelle des Tours de Merle ! Parcourez les chemins du castrum aux côtés d’un guide costumé et découvrez la vie médiévale des lieux\, ses habitants et les richesses naturelles qui les entourent.
URL:https://toursdemerle.fr/event/visite-guidee-classique-1h-3/2025-08-05/
CATEGORIES:Les Visites
ATTACH;FMTTYPE=image/jpeg:https://toursdemerle.fr/wp-content/uploads/2024/02/Les-Tours-de-Merle-animations-familles-Visite-les-apprentis-archeo@PierreLeygonie-2.jpg
END:VEVENT
BEGIN:VEVENT
DTSTART;TZID=Europe/Paris:20250805T170000
DTEND;TZID=Europe/Paris:20250805T174500
DTSTAMP:20260420T233115
CREATED:20250429T140220Z
LAST-MODIFIED:20250429T140652Z
UID:10004328-1754413200-1754415900@toursdemerle.fr
SUMMARY:Spectacle "Destins de Chevaliers" (45min)
DESCRIPTION:Humour et action sont les maîtres mots de ce spectacle d’aventures qui mène tout droit au temps des chevaliers ! Il réunit neuf comédiens\, escrimeurs et cascadeurs autour d’une nouvelle farce médiévale aux combats spectaculaires et aux situations rocambolesques ! À la fin du spectacle\, les comédiens invitent les enfants à vivre des épreuves pour devenir chevaliers et chevaleresses des Tours de Merle !
URL:https://toursdemerle.fr/event/spectacle-45min-3-2/2025-08-05/
CATEGORIES:Les Animations
ATTACH;FMTTYPE=image/jpeg:https://toursdemerle.fr/wp-content/uploads/2024/01/Les-Tours-de-Merle-animations-familles-Spectacle-Pagaille@PierreLeygonie-27.jpg
END:VEVENT
END:VCALENDAR