BEGIN:VCALENDAR
VERSION:2.0
PRODID:-//Les Tours de Merle - Cité médiévale en Corrèze - ECPv6.15.18//NONSGML v1.0//EN
CALSCALE:GREGORIAN
METHOD:PUBLISH
X-WR-CALNAME:Les Tours de Merle - Cité médiévale en Corrèze
X-ORIGINAL-URL:https://toursdemerle.fr
X-WR-CALDESC:Évènements pour Les Tours de Merle - Cité médiévale en Corrèze
REFRESH-INTERVAL;VALUE=DURATION:PT1H
X-Robots-Tag:noindex
X-PUBLISHED-TTL:PT1H
BEGIN:VTIMEZONE
TZID:Europe/Paris
BEGIN:DAYLIGHT
TZOFFSETFROM:+0100
TZOFFSETTO:+0200
TZNAME:CEST
DTSTART:20240331T010000
END:DAYLIGHT
BEGIN:STANDARD
TZOFFSETFROM:+0200
TZOFFSETTO:+0100
TZNAME:CET
DTSTART:20241027T010000
END:STANDARD
BEGIN:DAYLIGHT
TZOFFSETFROM:+0100
TZOFFSETTO:+0200
TZNAME:CEST
DTSTART:20250330T010000
END:DAYLIGHT
BEGIN:STANDARD
TZOFFSETFROM:+0200
TZOFFSETTO:+0100
TZNAME:CET
DTSTART:20251026T010000
END:STANDARD
BEGIN:DAYLIGHT
TZOFFSETFROM:+0100
TZOFFSETTO:+0200
TZNAME:CEST
DTSTART:20260329T010000
END:DAYLIGHT
BEGIN:STANDARD
TZOFFSETFROM:+0200
TZOFFSETTO:+0100
TZNAME:CET
DTSTART:20261025T010000
END:STANDARD
END:VTIMEZONE
BEGIN:VEVENT
DTSTART;TZID=Europe/Paris:20251027T121500
DTEND;TZID=Europe/Paris:20251027T130000
DTSTAMP:20260420T134435
CREATED:20251007T093147Z
LAST-MODIFIED:20251007T093440Z
UID:10004784-1761567300-1761570000@toursdemerle.fr
SUMMARY:Atelier enfant :  "Donne vie à ton fantôme d'Halloween" (45min) | nouveauté
DESCRIPTION:Avec quelques fournitures simples et une pincée de magie\, il devient possible de donner vie à de petites créatures délicieusement mystérieuses. Apprenez à confectionner un fantôme plus adorable que terrifiant\, qui pourra hanter vos décorations d’Halloween et célébrer l’automne avec charme et fantaisie. Entre créativité et enchantement\, chaque geste apporte sa touche de magie…
URL:https://toursdemerle.fr/event/atelier-enfant-donne-vie-a-ton-fantome-dhalloween-45min-nouveaute/2025-10-27/
CATEGORIES:Les Animations
ATTACH;FMTTYPE=image/jpeg:https://toursdemerle.fr/wp-content/uploads/2025/10/Fantomes-Merle-©B.Bardi_-e1760532462374.jpg
END:VEVENT
END:VCALENDAR