BEGIN:VCALENDAR
VERSION:2.0
PRODID:-//Les Tours de Merle - Cité médiévale en Corrèze - ECPv6.15.18//NONSGML v1.0//EN
CALSCALE:GREGORIAN
METHOD:PUBLISH
X-WR-CALNAME:Les Tours de Merle - Cité médiévale en Corrèze
X-ORIGINAL-URL:https://toursdemerle.fr
X-WR-CALDESC:Évènements pour Les Tours de Merle - Cité médiévale en Corrèze
REFRESH-INTERVAL;VALUE=DURATION:PT1H
X-Robots-Tag:noindex
X-PUBLISHED-TTL:PT1H
BEGIN:VTIMEZONE
TZID:Europe/Paris
BEGIN:DAYLIGHT
TZOFFSETFROM:+0100
TZOFFSETTO:+0200
TZNAME:CEST
DTSTART:20240331T010000
END:DAYLIGHT
BEGIN:STANDARD
TZOFFSETFROM:+0200
TZOFFSETTO:+0100
TZNAME:CET
DTSTART:20241027T010000
END:STANDARD
BEGIN:DAYLIGHT
TZOFFSETFROM:+0100
TZOFFSETTO:+0200
TZNAME:CEST
DTSTART:20250330T010000
END:DAYLIGHT
BEGIN:STANDARD
TZOFFSETFROM:+0200
TZOFFSETTO:+0100
TZNAME:CET
DTSTART:20251026T010000
END:STANDARD
BEGIN:DAYLIGHT
TZOFFSETFROM:+0100
TZOFFSETTO:+0200
TZNAME:CEST
DTSTART:20260329T010000
END:DAYLIGHT
BEGIN:STANDARD
TZOFFSETFROM:+0200
TZOFFSETTO:+0100
TZNAME:CET
DTSTART:20261025T010000
END:STANDARD
END:VTIMEZONE
BEGIN:VEVENT
DTSTART;TZID=Europe/Paris:20251024T140000
DTEND;TZID=Europe/Paris:20251024T170000
DTSTAMP:20260420T145236
CREATED:20240207T131356Z
LAST-MODIFIED:20250920T142944Z
UID:10004589-1761314400-1761325200@toursdemerle.fr
SUMMARY:Atelier enfant – « Fabrique ton cerf-volant d’Halloween » (1h)
DESCRIPTION:Accompagnés par un animateur du comité départemental de vol libre\, les enfants fabriquent leur propre cerf-volant… mais pas n’importe lequel ! Un effrayant fantôme prêt à prendre son envol. Chacun repartira avec sa création unique et la joie de la voir danser dans le ciel d’automne.
URL:https://toursdemerle.fr/event/atelier-cerfs-volants-special-halloween-1h/
CATEGORIES:Les Animations
ATTACH;FMTTYPE=image/jpeg:https://toursdemerle.fr/wp-content/uploads/2024/02/Les-Tours-de-Merle-atelier-cerf-volant-4-1.jpg
END:VEVENT
BEGIN:VEVENT
DTSTART;TZID=Europe/Paris:20251024T143000
DTEND;TZID=Europe/Paris:20251024T154500
DTSTAMP:20260420T145236
CREATED:20250920T142125Z
LAST-MODIFIED:20250920T142328Z
UID:10004768-1761316200-1761320700@toursdemerle.fr
SUMMARY:Visite théâtralisée "Les Tours de Merle se la racontent… entre ombres et légendes" (1h15)
DESCRIPTION:Suivez l’ombre fantomatique de la Dame de Merle et laissez-vous guider dans l’atmosphère envoûtante des Tours de Merle… Sur les chemins brumeux\, écoutez les murmures des pierres et tentez de percer les secrets des habitants des lieux.
URL:https://toursdemerle.fr/event/visite-theatralisee-1h15-9-2/2025-10-24/
CATEGORIES:Les Visites
ATTACH;FMTTYPE=image/png:https://toursdemerle.fr/wp-content/uploads/2024/08/Simple-Modern-Motivational-Quote-Facebook-Post-e1728042107714.png
END:VEVENT
END:VCALENDAR