BEGIN:VCALENDAR
VERSION:2.0
PRODID:-//Les Tours de Merle - Cité médiévale en Corrèze - ECPv6.15.18//NONSGML v1.0//EN
CALSCALE:GREGORIAN
METHOD:PUBLISH
X-WR-CALNAME:Les Tours de Merle - Cité médiévale en Corrèze
X-ORIGINAL-URL:https://toursdemerle.fr
X-WR-CALDESC:Évènements pour Les Tours de Merle - Cité médiévale en Corrèze
REFRESH-INTERVAL;VALUE=DURATION:PT1H
X-Robots-Tag:noindex
X-PUBLISHED-TTL:PT1H
BEGIN:VTIMEZONE
TZID:Europe/Paris
BEGIN:DAYLIGHT
TZOFFSETFROM:+0100
TZOFFSETTO:+0200
TZNAME:CEST
DTSTART:20240331T010000
END:DAYLIGHT
BEGIN:STANDARD
TZOFFSETFROM:+0200
TZOFFSETTO:+0100
TZNAME:CET
DTSTART:20241027T010000
END:STANDARD
BEGIN:DAYLIGHT
TZOFFSETFROM:+0100
TZOFFSETTO:+0200
TZNAME:CEST
DTSTART:20250330T010000
END:DAYLIGHT
BEGIN:STANDARD
TZOFFSETFROM:+0200
TZOFFSETTO:+0100
TZNAME:CET
DTSTART:20251026T010000
END:STANDARD
BEGIN:DAYLIGHT
TZOFFSETFROM:+0100
TZOFFSETTO:+0200
TZNAME:CEST
DTSTART:20260329T010000
END:DAYLIGHT
BEGIN:STANDARD
TZOFFSETFROM:+0200
TZOFFSETTO:+0100
TZNAME:CET
DTSTART:20261025T010000
END:STANDARD
END:VTIMEZONE
BEGIN:VEVENT
DTSTART;TZID=Europe/Paris:20251023T110000
DTEND;TZID=Europe/Paris:20251023T114500
DTSTAMP:20260420T145152
CREATED:20251007T085939Z
LAST-MODIFIED:20251010T154831Z
UID:10004781-1761217200-1761219900@toursdemerle.fr
SUMMARY:Atelier enfant :  "Fabrique ton attrape-cauchemars d'Halloween" (45min)
DESCRIPTION:Fabriquez l’artefact qui veillera sur votre nuit d’Halloween. En apprivoisant le bois de saule et en tissant fils\, perles et plumes\, repartez avec un attrape-cauchemars unique\, chargé de vos intentions. Il saura capturer les ombres et les cauchemars pour ne laisser passer que les plus beaux rêves… De quoi dormir paisiblement\, même quand les nuits se peuplent de sorcières et de mystères.
URL:https://toursdemerle.fr/event/atelier-enfant-fabrique-ton-attrape-cauchemars-dhalloween-45min/2025-10-23/1/
CATEGORIES:Les Animations
ATTACH;FMTTYPE=image/jpeg:https://toursdemerle.fr/wp-content/uploads/2024/10/049-DSC9104-e1728042885890.jpg
END:VEVENT
BEGIN:VEVENT
DTSTART;TZID=Europe/Paris:20251023T110000
DTEND;TZID=Europe/Paris:20251023T120000
DTSTAMP:20260420T145152
CREATED:20250825T152628Z
LAST-MODIFIED:20251016T153211Z
UID:10004800-1761217200-1761220800@toursdemerle.fr
SUMMARY:Visite guidée (1h)
DESCRIPTION:“Dans pas des seigneurs des Tours de Merle” est la visite guidée incontournable pour plonger dans l’histoire exceptionnelle des Tours de Merle ! Parcourez les chemins du castrum aux côtés d’un guide costumé et découvrez la vie médiévale des lieux\, ses habitants et les richesses naturelles qui les entourent.
URL:https://toursdemerle.fr/event/visite-guidee-1h30/2025-10-23/
CATEGORIES:Les Visites
ATTACH;FMTTYPE=image/jpeg:https://toursdemerle.fr/wp-content/uploads/2024/02/Les-Tours-de-Merle-animations-familles-Visite-les-apprentis-archeo@PierreLeygonie-2.jpg
END:VEVENT
BEGIN:VEVENT
DTSTART;TZID=Europe/Paris:20251023T140000
DTEND;TZID=Europe/Paris:20251023T144500
DTSTAMP:20260420T145152
CREATED:20251007T085939Z
LAST-MODIFIED:20251010T154831Z
UID:10004782-1761228000-1761230700@toursdemerle.fr
SUMMARY:Atelier enfant :  "Fabrique ton attrape-cauchemars d'Halloween" (45min)
DESCRIPTION:Fabriquez l’artefact qui veillera sur votre nuit d’Halloween. En apprivoisant le bois de saule et en tissant fils\, perles et plumes\, repartez avec un attrape-cauchemars unique\, chargé de vos intentions. Il saura capturer les ombres et les cauchemars pour ne laisser passer que les plus beaux rêves… De quoi dormir paisiblement\, même quand les nuits se peuplent de sorcières et de mystères.
URL:https://toursdemerle.fr/event/atelier-enfant-fabrique-ton-attrape-cauchemars-dhalloween-45min/2025-10-23/2/
CATEGORIES:Les Animations
ATTACH;FMTTYPE=image/jpeg:https://toursdemerle.fr/wp-content/uploads/2024/10/049-DSC9104-e1728042885890.jpg
END:VEVENT
BEGIN:VEVENT
DTSTART;TZID=Europe/Paris:20251023T143000
DTEND;TZID=Europe/Paris:20251023T154500
DTSTAMP:20260420T145152
CREATED:20250920T142125Z
LAST-MODIFIED:20250920T142328Z
UID:10004767-1761229800-1761234300@toursdemerle.fr
SUMMARY:Visite théâtralisée "Les Tours de Merle se la racontent… entre ombres et légendes" (1h15)
DESCRIPTION:Suivez l’ombre fantomatique de la Dame de Merle et laissez-vous guider dans l’atmosphère envoûtante des Tours de Merle… Sur les chemins brumeux\, écoutez les murmures des pierres et tentez de percer les secrets des habitants des lieux.
URL:https://toursdemerle.fr/event/visite-theatralisee-1h15-9-2/2025-10-23/
CATEGORIES:Les Visites
ATTACH;FMTTYPE=image/png:https://toursdemerle.fr/wp-content/uploads/2024/08/Simple-Modern-Motivational-Quote-Facebook-Post-e1728042107714.png
END:VEVENT
END:VCALENDAR