BEGIN:VCALENDAR
VERSION:2.0
PRODID:-//Les Tours de Merle - Cité médiévale en Corrèze - ECPv6.15.18//NONSGML v1.0//EN
CALSCALE:GREGORIAN
METHOD:PUBLISH
X-ORIGINAL-URL:https://toursdemerle.fr
X-WR-CALDESC:Évènements pour Les Tours de Merle - Cité médiévale en Corrèze
REFRESH-INTERVAL;VALUE=DURATION:PT1H
X-Robots-Tag:noindex
X-PUBLISHED-TTL:PT1H
BEGIN:VTIMEZONE
TZID:Europe/Paris
BEGIN:DAYLIGHT
TZOFFSETFROM:+0100
TZOFFSETTO:+0200
TZNAME:CEST
DTSTART:20240331T010000
END:DAYLIGHT
BEGIN:STANDARD
TZOFFSETFROM:+0200
TZOFFSETTO:+0100
TZNAME:CET
DTSTART:20241027T010000
END:STANDARD
BEGIN:DAYLIGHT
TZOFFSETFROM:+0100
TZOFFSETTO:+0200
TZNAME:CEST
DTSTART:20250330T010000
END:DAYLIGHT
BEGIN:STANDARD
TZOFFSETFROM:+0200
TZOFFSETTO:+0100
TZNAME:CET
DTSTART:20251026T010000
END:STANDARD
BEGIN:DAYLIGHT
TZOFFSETFROM:+0100
TZOFFSETTO:+0200
TZNAME:CEST
DTSTART:20260329T010000
END:DAYLIGHT
BEGIN:STANDARD
TZOFFSETFROM:+0200
TZOFFSETTO:+0100
TZNAME:CET
DTSTART:20261025T010000
END:STANDARD
END:VTIMEZONE
BEGIN:VEVENT
DTSTART;TZID=Europe/Paris:20250823T110000
DTEND;TZID=Europe/Paris:20250823T123000
DTSTAMP:20260420T174814
CREATED:20240203T105656Z
LAST-MODIFIED:20250506T132003Z
UID:10004536-1755946800-1755952200@toursdemerle.fr
SUMMARY:Visite guidée (1H30)
DESCRIPTION:“Dans pas des seigneurs des Tours de Merle” est la visite guidée incontournable pour plonger dans l’histoire exceptionnelle des Tours de Merle ! Parcourez les chemins du castrum aux côtés d’un guide costumé et découvrez la vie médiévale des lieux\, ses habitants et les richesses naturelles qui les entourent.
URL:https://toursdemerle.fr/event/visite-guidee-classique-1h-2/2025-08-23/
CATEGORIES:Les Visites
ATTACH;FMTTYPE=image/jpeg:https://toursdemerle.fr/wp-content/uploads/2024/02/Les-Tours-de-Merle-animations-familles-Visite-les-apprentis-archeo@PierreLeygonie-2.jpg
END:VEVENT
END:VCALENDAR