BEGIN:VCALENDAR
VERSION:2.0
PRODID:-//Les Tours de Merle - Cité médiévale en Corrèze - ECPv6.15.18//NONSGML v1.0//EN
CALSCALE:GREGORIAN
METHOD:PUBLISH
X-WR-CALNAME:Les Tours de Merle - Cité médiévale en Corrèze
X-ORIGINAL-URL:https://toursdemerle.fr
X-WR-CALDESC:Évènements pour Les Tours de Merle - Cité médiévale en Corrèze
REFRESH-INTERVAL;VALUE=DURATION:PT1H
X-Robots-Tag:noindex
X-PUBLISHED-TTL:PT1H
BEGIN:VTIMEZONE
TZID:Europe/Paris
BEGIN:DAYLIGHT
TZOFFSETFROM:+0100
TZOFFSETTO:+0200
TZNAME:CEST
DTSTART:20240331T010000
END:DAYLIGHT
BEGIN:STANDARD
TZOFFSETFROM:+0200
TZOFFSETTO:+0100
TZNAME:CET
DTSTART:20241027T010000
END:STANDARD
BEGIN:DAYLIGHT
TZOFFSETFROM:+0100
TZOFFSETTO:+0200
TZNAME:CEST
DTSTART:20250330T010000
END:DAYLIGHT
BEGIN:STANDARD
TZOFFSETFROM:+0200
TZOFFSETTO:+0100
TZNAME:CET
DTSTART:20251026T010000
END:STANDARD
BEGIN:DAYLIGHT
TZOFFSETFROM:+0100
TZOFFSETTO:+0200
TZNAME:CEST
DTSTART:20260329T010000
END:DAYLIGHT
BEGIN:STANDARD
TZOFFSETFROM:+0200
TZOFFSETTO:+0100
TZNAME:CET
DTSTART:20261025T010000
END:STANDARD
END:VTIMEZONE
BEGIN:VEVENT
DTSTART;TZID=Europe/Paris:20250813T110000
DTEND;TZID=Europe/Paris:20250813T114500
DTSTAMP:20260420T174501
CREATED:20250429T141143Z
LAST-MODIFIED:20250429T141241Z
UID:10004350-1755082800-1755085500@toursdemerle.fr
SUMMARY:Spectacle "Destins de Chevaliers" (45min)
DESCRIPTION:Humour et action sont les maîtres mots de ce spectacle d’aventures qui mène tout droit au temps des chevaliers ! Il réunit neuf comédiens\, escrimeurs et cascadeurs autour d’une nouvelle farce médiévale aux combats spectaculaires et aux situations rocambolesques ! À la fin du spectacle\, les comédiens invitent les enfants à vivre des épreuves pour devenir chevaliers et chevaleresses des Tours de Merle !
URL:https://toursdemerle.fr/event/spectacle-45min-4/2025-08-13/
CATEGORIES:Les Animations
ATTACH;FMTTYPE=image/jpeg:https://toursdemerle.fr/wp-content/uploads/2024/01/Les-Tours-de-Merle-animations-familles-Spectacle-Pagaille@PierreLeygonie-27.jpg
END:VEVENT
BEGIN:VEVENT
DTSTART;TZID=Europe/Paris:20250813T110000
DTEND;TZID=Europe/Paris:20250813T123000
DTSTAMP:20260420T174501
CREATED:20240203T105656Z
LAST-MODIFIED:20250506T132003Z
UID:10004527-1755082800-1755088200@toursdemerle.fr
SUMMARY:Visite guidée (1H30)
DESCRIPTION:“Dans pas des seigneurs des Tours de Merle” est la visite guidée incontournable pour plonger dans l’histoire exceptionnelle des Tours de Merle ! Parcourez les chemins du castrum aux côtés d’un guide costumé et découvrez la vie médiévale des lieux\, ses habitants et les richesses naturelles qui les entourent.
URL:https://toursdemerle.fr/event/visite-guidee-classique-1h-2/2025-08-13/
CATEGORIES:Les Visites
ATTACH;FMTTYPE=image/jpeg:https://toursdemerle.fr/wp-content/uploads/2024/02/Les-Tours-de-Merle-animations-familles-Visite-les-apprentis-archeo@PierreLeygonie-2.jpg
END:VEVENT
BEGIN:VEVENT
DTSTART;TZID=Europe/Paris:20250813T143000
DTEND;TZID=Europe/Paris:20250813T151500
DTSTAMP:20260420T174501
CREATED:20250429T142253Z
LAST-MODIFIED:20250429T142521Z
UID:10004366-1755095400-1755098100@toursdemerle.fr
SUMMARY:Spectacle "Destins de Chevaliers " (45min)
DESCRIPTION:Humour et action sont les maîtres mots de ce spectacle d’aventures qui mène tout droit au temps des chevaliers ! Il réunit neuf comédiens\, escrimeurs et cascadeurs autour d’une nouvelle farce médiévale aux combats spectaculaires et aux situations rocambolesques ! À la fin du spectacle\, les comédiens invitent les enfants à vivre des épreuves pour devenir chevaliers et chevaleresses des Tours de Merle !
URL:https://toursdemerle.fr/event/spectacle-45min-2-2/2025-08-13/
CATEGORIES:Les Animations
ATTACH;FMTTYPE=image/jpeg:https://toursdemerle.fr/wp-content/uploads/2024/01/Les-Tours-de-Merle-animations-familles-Spectacle-Pagaille@PierreLeygonie-27.jpg
END:VEVENT
BEGIN:VEVENT
DTSTART;TZID=Europe/Paris:20250813T150000
DTEND;TZID=Europe/Paris:20250813T160000
DTSTAMP:20260420T174501
CREATED:20250313T085500Z
LAST-MODIFIED:20250825T105440Z
UID:10004563-1755097200-1755100800@toursdemerle.fr
SUMMARY:Visite guidée (1H)
DESCRIPTION:“Dans pas des seigneurs des Tours de Merle” est la visite guidée incontournable pour plonger dans l’histoire exceptionnelle des Tours de Merle ! Parcourez les chemins du castrum aux côtés d’un guide costumé et découvrez la vie médiévale des lieux\, ses habitants et les richesses naturelles qui les entourent.
URL:https://toursdemerle.fr/event/visite-guidee-classique-1h-3/2025-08-13/
CATEGORIES:Les Visites
ATTACH;FMTTYPE=image/jpeg:https://toursdemerle.fr/wp-content/uploads/2024/02/Les-Tours-de-Merle-animations-familles-Visite-les-apprentis-archeo@PierreLeygonie-2.jpg
END:VEVENT
BEGIN:VEVENT
DTSTART;TZID=Europe/Paris:20250813T170000
DTEND;TZID=Europe/Paris:20250813T174500
DTSTAMP:20260420T174501
CREATED:20250429T140220Z
LAST-MODIFIED:20250429T140652Z
UID:10004334-1755104400-1755107100@toursdemerle.fr
SUMMARY:Spectacle "Destins de Chevaliers" (45min)
DESCRIPTION:Humour et action sont les maîtres mots de ce spectacle d’aventures qui mène tout droit au temps des chevaliers ! Il réunit neuf comédiens\, escrimeurs et cascadeurs autour d’une nouvelle farce médiévale aux combats spectaculaires et aux situations rocambolesques ! À la fin du spectacle\, les comédiens invitent les enfants à vivre des épreuves pour devenir chevaliers et chevaleresses des Tours de Merle !
URL:https://toursdemerle.fr/event/spectacle-45min-3-2/2025-08-13/
CATEGORIES:Les Animations
ATTACH;FMTTYPE=image/jpeg:https://toursdemerle.fr/wp-content/uploads/2024/01/Les-Tours-de-Merle-animations-familles-Spectacle-Pagaille@PierreLeygonie-27.jpg
END:VEVENT
BEGIN:VEVENT
DTSTART;TZID=Europe/Paris:20250813T200000
DTEND;TZID=Europe/Paris:20250813T220000
DTSTAMP:20260420T174501
CREATED:20240207T162117Z
LAST-MODIFIED:20250505T150955Z
UID:10004516-1755115200-1755122400@toursdemerle.fr
SUMMARY:La Nuit de la chauve-souris (2H)
DESCRIPTION:Aux Tours de Merle\, les chauves-souris sont nos alliées de la nuit ! Christophe Lagorsse\, animateur Natura 2000 et passionné de chiroptères\, vous invite à percer les secrets de ces étonnants mammifères volants lors d’une conférence captivante. Puis\, à la tombée du jour\, suivez-le sur les sentiers des Tours pour une promenade crépusculaire à la rencontre des reines discrètes de la nuit — à voir\, et surtout à écouter.
URL:https://toursdemerle.fr/event/la-nuit-de-la-chauve-souris/2025-08-13/
CATEGORIES:Les Soirées
ATTACH;FMTTYPE=image/jpeg:https://toursdemerle.fr/wp-content/uploads/2024/01/Les-Tours-de-Merle-nature-xaintrie-environnement-Chauves-souris@PhilippeLebrun2.jpg
END:VEVENT
END:VCALENDAR