BEGIN:VCALENDAR
VERSION:2.0
PRODID:-//Les Tours de Merle - Cité médiévale en Corrèze - ECPv6.15.18//NONSGML v1.0//EN
CALSCALE:GREGORIAN
METHOD:PUBLISH
X-ORIGINAL-URL:https://toursdemerle.fr
X-WR-CALDESC:Évènements pour Les Tours de Merle - Cité médiévale en Corrèze
REFRESH-INTERVAL;VALUE=DURATION:PT1H
X-Robots-Tag:noindex
X-PUBLISHED-TTL:PT1H
BEGIN:VTIMEZONE
TZID:Europe/Paris
BEGIN:DAYLIGHT
TZOFFSETFROM:+0100
TZOFFSETTO:+0200
TZNAME:CEST
DTSTART:20240331T010000
END:DAYLIGHT
BEGIN:STANDARD
TZOFFSETFROM:+0200
TZOFFSETTO:+0100
TZNAME:CET
DTSTART:20241027T010000
END:STANDARD
BEGIN:DAYLIGHT
TZOFFSETFROM:+0100
TZOFFSETTO:+0200
TZNAME:CEST
DTSTART:20250330T010000
END:DAYLIGHT
BEGIN:STANDARD
TZOFFSETFROM:+0200
TZOFFSETTO:+0100
TZNAME:CET
DTSTART:20251026T010000
END:STANDARD
BEGIN:DAYLIGHT
TZOFFSETFROM:+0100
TZOFFSETTO:+0200
TZNAME:CEST
DTSTART:20260329T010000
END:DAYLIGHT
BEGIN:STANDARD
TZOFFSETFROM:+0200
TZOFFSETTO:+0100
TZNAME:CET
DTSTART:20261025T010000
END:STANDARD
END:VTIMEZONE
BEGIN:VEVENT
DTSTART;TZID=Europe/Paris:20250811T110000
DTEND;TZID=Europe/Paris:20250811T114500
DTSTAMP:20260420T174812
CREATED:20250429T141143Z
LAST-MODIFIED:20250429T141241Z
UID:10004348-1754910000-1754912700@toursdemerle.fr
SUMMARY:Spectacle "Destins de Chevaliers" (45min)
DESCRIPTION:Humour et action sont les maîtres mots de ce spectacle d’aventures qui mène tout droit au temps des chevaliers ! Il réunit neuf comédiens\, escrimeurs et cascadeurs autour d’une nouvelle farce médiévale aux combats spectaculaires et aux situations rocambolesques ! À la fin du spectacle\, les comédiens invitent les enfants à vivre des épreuves pour devenir chevaliers et chevaleresses des Tours de Merle !
URL:https://toursdemerle.fr/event/spectacle-45min-4/2025-08-11/
CATEGORIES:Les Animations
ATTACH;FMTTYPE=image/jpeg:https://toursdemerle.fr/wp-content/uploads/2024/01/Les-Tours-de-Merle-animations-familles-Spectacle-Pagaille@PierreLeygonie-27.jpg
END:VEVENT
BEGIN:VEVENT
DTSTART;TZID=Europe/Paris:20250811T110000
DTEND;TZID=Europe/Paris:20250811T123000
DTSTAMP:20260420T174812
CREATED:20240203T105656Z
LAST-MODIFIED:20250506T132003Z
UID:10004525-1754910000-1754915400@toursdemerle.fr
SUMMARY:Visite guidée (1H30)
DESCRIPTION:“Dans pas des seigneurs des Tours de Merle” est la visite guidée incontournable pour plonger dans l’histoire exceptionnelle des Tours de Merle ! Parcourez les chemins du castrum aux côtés d’un guide costumé et découvrez la vie médiévale des lieux\, ses habitants et les richesses naturelles qui les entourent.
URL:https://toursdemerle.fr/event/visite-guidee-classique-1h-2/2025-08-11/
CATEGORIES:Les Visites
ATTACH;FMTTYPE=image/jpeg:https://toursdemerle.fr/wp-content/uploads/2024/02/Les-Tours-de-Merle-animations-familles-Visite-les-apprentis-archeo@PierreLeygonie-2.jpg
END:VEVENT
BEGIN:VEVENT
DTSTART;TZID=Europe/Paris:20250811T143000
DTEND;TZID=Europe/Paris:20250811T151500
DTSTAMP:20260420T174812
CREATED:20250429T142253Z
LAST-MODIFIED:20250429T142521Z
UID:10004364-1754922600-1754925300@toursdemerle.fr
SUMMARY:Spectacle "Destins de Chevaliers " (45min)
DESCRIPTION:Humour et action sont les maîtres mots de ce spectacle d’aventures qui mène tout droit au temps des chevaliers ! Il réunit neuf comédiens\, escrimeurs et cascadeurs autour d’une nouvelle farce médiévale aux combats spectaculaires et aux situations rocambolesques ! À la fin du spectacle\, les comédiens invitent les enfants à vivre des épreuves pour devenir chevaliers et chevaleresses des Tours de Merle !
URL:https://toursdemerle.fr/event/spectacle-45min-2-2/2025-08-11/
CATEGORIES:Les Animations
ATTACH;FMTTYPE=image/jpeg:https://toursdemerle.fr/wp-content/uploads/2024/01/Les-Tours-de-Merle-animations-familles-Spectacle-Pagaille@PierreLeygonie-27.jpg
END:VEVENT
BEGIN:VEVENT
DTSTART;TZID=Europe/Paris:20250811T150000
DTEND;TZID=Europe/Paris:20250811T160000
DTSTAMP:20260420T174812
CREATED:20250313T085500Z
LAST-MODIFIED:20250825T105440Z
UID:10004561-1754924400-1754928000@toursdemerle.fr
SUMMARY:Visite guidée (1H)
DESCRIPTION:“Dans pas des seigneurs des Tours de Merle” est la visite guidée incontournable pour plonger dans l’histoire exceptionnelle des Tours de Merle ! Parcourez les chemins du castrum aux côtés d’un guide costumé et découvrez la vie médiévale des lieux\, ses habitants et les richesses naturelles qui les entourent.
URL:https://toursdemerle.fr/event/visite-guidee-classique-1h-3/2025-08-11/
CATEGORIES:Les Visites
ATTACH;FMTTYPE=image/jpeg:https://toursdemerle.fr/wp-content/uploads/2024/02/Les-Tours-de-Merle-animations-familles-Visite-les-apprentis-archeo@PierreLeygonie-2.jpg
END:VEVENT
BEGIN:VEVENT
DTSTART;TZID=Europe/Paris:20250811T170000
DTEND;TZID=Europe/Paris:20250811T174500
DTSTAMP:20260420T174812
CREATED:20250429T140220Z
LAST-MODIFIED:20250429T140652Z
UID:10004332-1754931600-1754934300@toursdemerle.fr
SUMMARY:Spectacle "Destins de Chevaliers" (45min)
DESCRIPTION:Humour et action sont les maîtres mots de ce spectacle d’aventures qui mène tout droit au temps des chevaliers ! Il réunit neuf comédiens\, escrimeurs et cascadeurs autour d’une nouvelle farce médiévale aux combats spectaculaires et aux situations rocambolesques ! À la fin du spectacle\, les comédiens invitent les enfants à vivre des épreuves pour devenir chevaliers et chevaleresses des Tours de Merle !
URL:https://toursdemerle.fr/event/spectacle-45min-3-2/2025-08-11/
CATEGORIES:Les Animations
ATTACH;FMTTYPE=image/jpeg:https://toursdemerle.fr/wp-content/uploads/2024/01/Les-Tours-de-Merle-animations-familles-Spectacle-Pagaille@PierreLeygonie-27.jpg
END:VEVENT
BEGIN:VEVENT
DTSTART;TZID=Europe/Paris:20250811T190000
DTEND;TZID=Europe/Paris:20250811T213000
DTSTAMP:20260420T174812
CREATED:20250505T121730Z
LAST-MODIFIED:20250717T163240Z
UID:10004512-1754938800-1754947800@toursdemerle.fr
SUMMARY:Jeu d'enquête : "Qui a tué le seigneur de Rochedragon ?" (2H30)
DESCRIPTION:Vous voilà plongés en l’an de grâce 1255. Une rumeur court entre les murs des Tours de Merle : le seigneur Adhémar de Rochedragon a été assassiné ! Alaïs\, trobairitz de renom et fine enquêtrice\, a besoin de renfort : rejoignez le groupe et suivez-la dans une aventure grandeur nature au cœur des Tours de Merle et tentez de percer le mystère. Ensemble\, arpentez les chemins\, interrogez les habitants et récoltez les indices…\nMais attention : le coupable se cache peut-être tout près de vous ! Entre rebondissements\, rencontres inattendues et secrets bien gardés\, laissez-vous porter par une soirée immersive mêlant enquête\, théâtre et patrimoine.
URL:https://toursdemerle.fr/event/jeu-denquete-2h30-2/2025-08-11/
CATEGORIES:Les Soirées
ATTACH;FMTTYPE=image/jpeg:https://toursdemerle.fr/wp-content/uploads/2024/02/programme-activites-animations-tours-de-merle.jpg
END:VEVENT
END:VCALENDAR