BEGIN:VCALENDAR
VERSION:2.0
PRODID:-//Les Tours de Merle - Cité médiévale en Corrèze - ECPv6.15.18//NONSGML v1.0//EN
CALSCALE:GREGORIAN
METHOD:PUBLISH
X-ORIGINAL-URL:https://toursdemerle.fr
X-WR-CALDESC:Évènements pour Les Tours de Merle - Cité médiévale en Corrèze
REFRESH-INTERVAL;VALUE=DURATION:PT1H
X-Robots-Tag:noindex
X-PUBLISHED-TTL:PT1H
BEGIN:VTIMEZONE
TZID:Europe/Paris
BEGIN:DAYLIGHT
TZOFFSETFROM:+0100
TZOFFSETTO:+0200
TZNAME:CEST
DTSTART:20240331T010000
END:DAYLIGHT
BEGIN:STANDARD
TZOFFSETFROM:+0200
TZOFFSETTO:+0100
TZNAME:CET
DTSTART:20241027T010000
END:STANDARD
BEGIN:DAYLIGHT
TZOFFSETFROM:+0100
TZOFFSETTO:+0200
TZNAME:CEST
DTSTART:20250330T010000
END:DAYLIGHT
BEGIN:STANDARD
TZOFFSETFROM:+0200
TZOFFSETTO:+0100
TZNAME:CET
DTSTART:20251026T010000
END:STANDARD
BEGIN:DAYLIGHT
TZOFFSETFROM:+0100
TZOFFSETTO:+0200
TZNAME:CEST
DTSTART:20260329T010000
END:DAYLIGHT
BEGIN:STANDARD
TZOFFSETFROM:+0200
TZOFFSETTO:+0100
TZNAME:CET
DTSTART:20261025T010000
END:STANDARD
END:VTIMEZONE
BEGIN:VEVENT
DTSTART;TZID=Europe/Paris:20250712T110000
DTEND;TZID=Europe/Paris:20250712T123000
DTSTAMP:20260420T200243
CREATED:20240207T150646Z
LAST-MODIFIED:20250429T154431Z
UID:10004384-1752318000-1752323400@toursdemerle.fr
SUMMARY:Les techniques du Moyen Âge : les armes et techniques de combat
DESCRIPTION:Petits et grands\, venez vivre une immersion au cœur du Moyen Âge en vous initiant aux arts du combat médiéval ! Épée\, hache\, arbalète… expérimentez ces armes emblématiques aux côtés des mains expertes et passionnées des intervenants de l’association Historiae Vivae. Au-delà de la pratique\, ils vous feront découvrir l’histoire\, les usages et les techniques de ces redoutables outils de guerre. Un moment à la fois ludique et instructif pour toute la famille !
URL:https://toursdemerle.fr/event/armes-et-techniques-de-combat/2025-07-12/1/
CATEGORIES:Les Animations
ATTACH;FMTTYPE=image/jpeg:https://toursdemerle.fr/wp-content/uploads/2024/02/Les-Tours-de-Merle-animations-familles-Techniques-combat-Historiae-Vivae@PierreLeygonie-15-1-dvlp.jpg
END:VEVENT
BEGIN:VEVENT
DTSTART;TZID=Europe/Paris:20250712T143000
DTEND;TZID=Europe/Paris:20250712T160000
DTSTAMP:20260420T200243
CREATED:20240207T150646Z
LAST-MODIFIED:20250429T154431Z
UID:10004385-1752330600-1752336000@toursdemerle.fr
SUMMARY:Les techniques du Moyen Âge : les armes et techniques de combat
DESCRIPTION:Petits et grands\, venez vivre une immersion au cœur du Moyen Âge en vous initiant aux arts du combat médiéval ! Épée\, hache\, arbalète… expérimentez ces armes emblématiques aux côtés des mains expertes et passionnées des intervenants de l’association Historiae Vivae. Au-delà de la pratique\, ils vous feront découvrir l’histoire\, les usages et les techniques de ces redoutables outils de guerre. Un moment à la fois ludique et instructif pour toute la famille !
URL:https://toursdemerle.fr/event/armes-et-techniques-de-combat/2025-07-12/2/
CATEGORIES:Les Animations
ATTACH;FMTTYPE=image/jpeg:https://toursdemerle.fr/wp-content/uploads/2024/02/Les-Tours-de-Merle-animations-familles-Techniques-combat-Historiae-Vivae@PierreLeygonie-15-1-dvlp.jpg
END:VEVENT
BEGIN:VEVENT
DTSTART;TZID=Europe/Paris:20250712T150000
DTEND;TZID=Europe/Paris:20250712T160000
DTSTAMP:20260420T200243
CREATED:20250313T085500Z
LAST-MODIFIED:20250825T105440Z
UID:10004481-1752332400-1752336000@toursdemerle.fr
SUMMARY:Visite guidée (1H)
DESCRIPTION:“Dans pas des seigneurs des Tours de Merle” est la visite guidée incontournable pour plonger dans l’histoire exceptionnelle des Tours de Merle ! Parcourez les chemins du castrum aux côtés d’un guide costumé et découvrez la vie médiévale des lieux\, ses habitants et les richesses naturelles qui les entourent.
URL:https://toursdemerle.fr/event/visite-guidee-classique-1h-3/2025-07-12/
CATEGORIES:Les Visites
ATTACH;FMTTYPE=image/jpeg:https://toursdemerle.fr/wp-content/uploads/2024/02/Les-Tours-de-Merle-animations-familles-Visite-les-apprentis-archeo@PierreLeygonie-2.jpg
END:VEVENT
BEGIN:VEVENT
DTSTART;TZID=Europe/Paris:20250712T163000
DTEND;TZID=Europe/Paris:20250712T180000
DTSTAMP:20260420T200243
CREATED:20240207T150646Z
LAST-MODIFIED:20250429T154431Z
UID:10004386-1752337800-1752343200@toursdemerle.fr
SUMMARY:Les techniques du Moyen Âge : les armes et techniques de combat
DESCRIPTION:Petits et grands\, venez vivre une immersion au cœur du Moyen Âge en vous initiant aux arts du combat médiéval ! Épée\, hache\, arbalète… expérimentez ces armes emblématiques aux côtés des mains expertes et passionnées des intervenants de l’association Historiae Vivae. Au-delà de la pratique\, ils vous feront découvrir l’histoire\, les usages et les techniques de ces redoutables outils de guerre. Un moment à la fois ludique et instructif pour toute la famille !
URL:https://toursdemerle.fr/event/armes-et-techniques-de-combat/2025-07-12/3/
CATEGORIES:Les Animations
ATTACH;FMTTYPE=image/jpeg:https://toursdemerle.fr/wp-content/uploads/2024/02/Les-Tours-de-Merle-animations-familles-Techniques-combat-Historiae-Vivae@PierreLeygonie-15-1-dvlp.jpg
END:VEVENT
END:VCALENDAR