BEGIN:VCALENDAR
VERSION:2.0
PRODID:-//Les Tours de Merle - Cité médiévale en Corrèze - ECPv6.15.18//NONSGML v1.0//EN
CALSCALE:GREGORIAN
METHOD:PUBLISH
X-ORIGINAL-URL:https://toursdemerle.fr
X-WR-CALDESC:Évènements pour Les Tours de Merle - Cité médiévale en Corrèze
REFRESH-INTERVAL;VALUE=DURATION:PT1H
X-Robots-Tag:noindex
X-PUBLISHED-TTL:PT1H
BEGIN:VTIMEZONE
TZID:Europe/Paris
BEGIN:DAYLIGHT
TZOFFSETFROM:+0100
TZOFFSETTO:+0200
TZNAME:CEST
DTSTART:20240331T010000
END:DAYLIGHT
BEGIN:STANDARD
TZOFFSETFROM:+0200
TZOFFSETTO:+0100
TZNAME:CET
DTSTART:20241027T010000
END:STANDARD
BEGIN:DAYLIGHT
TZOFFSETFROM:+0100
TZOFFSETTO:+0200
TZNAME:CEST
DTSTART:20250330T010000
END:DAYLIGHT
BEGIN:STANDARD
TZOFFSETFROM:+0200
TZOFFSETTO:+0100
TZNAME:CET
DTSTART:20251026T010000
END:STANDARD
BEGIN:DAYLIGHT
TZOFFSETFROM:+0100
TZOFFSETTO:+0200
TZNAME:CEST
DTSTART:20260329T010000
END:DAYLIGHT
BEGIN:STANDARD
TZOFFSETFROM:+0200
TZOFFSETTO:+0100
TZNAME:CET
DTSTART:20261025T010000
END:STANDARD
END:VTIMEZONE
BEGIN:VEVENT
DTSTART;TZID=Europe/Paris:20250423T110000
DTEND;TZID=Europe/Paris:20250423T120000
DTSTAMP:20260420T232449
CREATED:20250318T111721Z
LAST-MODIFIED:20250318T113006Z
UID:10004273-1745406000-1745409600@toursdemerle.fr
SUMMARY:Escarcelle à histoires - Contes en musique
DESCRIPTION:La compagnie Ambraluna vous convie à un voyage envoûtant mêlant récits et mélodies\, où contes et musique font résonner les histoires d’hier\, pour les oreilles d’aujourd’hui. Dans une ambiance intimiste au cœur du village des Tours de Merle\, laissez-vous transporter par des aventures fascinantes peuplées de rois\, de troubadours\, de princesses et d’êtres fantastiques. Quelques notes de musiques… et le voyage commence !
URL:https://toursdemerle.fr/event/escarcelle-a-histoires-contes-en-musique/2025-04-23/1/
CATEGORIES:Les Animations
ATTACH;FMTTYPE=image/png:https://toursdemerle.fr/wp-content/uploads/2025/03/Escarcelle-a-histoires-3.png
END:VEVENT
BEGIN:VEVENT
DTSTART;TZID=Europe/Paris:20250423T140000
DTEND;TZID=Europe/Paris:20250423T150000
DTSTAMP:20260420T232449
CREATED:20250318T111721Z
LAST-MODIFIED:20250318T113006Z
UID:10004274-1745416800-1745420400@toursdemerle.fr
SUMMARY:Escarcelle à histoires - Contes en musique
DESCRIPTION:La compagnie Ambraluna vous convie à un voyage envoûtant mêlant récits et mélodies\, où contes et musique font résonner les histoires d’hier\, pour les oreilles d’aujourd’hui. Dans une ambiance intimiste au cœur du village des Tours de Merle\, laissez-vous transporter par des aventures fascinantes peuplées de rois\, de troubadours\, de princesses et d’êtres fantastiques. Quelques notes de musiques… et le voyage commence !
URL:https://toursdemerle.fr/event/escarcelle-a-histoires-contes-en-musique/2025-04-23/2/
CATEGORIES:Les Animations
ATTACH;FMTTYPE=image/png:https://toursdemerle.fr/wp-content/uploads/2025/03/Escarcelle-a-histoires-3.png
END:VEVENT
BEGIN:VEVENT
DTSTART;TZID=Europe/Paris:20250423T150000
DTEND;TZID=Europe/Paris:20250423T160000
DTSTAMP:20260420T232449
CREATED:20250313T085500Z
LAST-MODIFIED:20250825T105440Z
UID:10003927-1745420400-1745424000@toursdemerle.fr
SUMMARY:Visite guidée (1H)
DESCRIPTION:“Dans pas des seigneurs des Tours de Merle” est la visite guidée incontournable pour plonger dans l’histoire exceptionnelle des Tours de Merle ! Parcourez les chemins du castrum aux côtés d’un guide costumé et découvrez la vie médiévale des lieux\, ses habitants et les richesses naturelles qui les entourent.
URL:https://toursdemerle.fr/event/visite-guidee-classique-1h-3/2025-04-23/
CATEGORIES:Les Visites
ATTACH;FMTTYPE=image/jpeg:https://toursdemerle.fr/wp-content/uploads/2024/02/Les-Tours-de-Merle-animations-familles-Visite-les-apprentis-archeo@PierreLeygonie-2.jpg
END:VEVENT
BEGIN:VEVENT
DTSTART;TZID=Europe/Paris:20250423T160000
DTEND;TZID=Europe/Paris:20250423T170000
DTSTAMP:20260420T232449
CREATED:20250318T111721Z
LAST-MODIFIED:20250318T113006Z
UID:10004275-1745424000-1745427600@toursdemerle.fr
SUMMARY:Escarcelle à histoires - Contes en musique
DESCRIPTION:La compagnie Ambraluna vous convie à un voyage envoûtant mêlant récits et mélodies\, où contes et musique font résonner les histoires d’hier\, pour les oreilles d’aujourd’hui. Dans une ambiance intimiste au cœur du village des Tours de Merle\, laissez-vous transporter par des aventures fascinantes peuplées de rois\, de troubadours\, de princesses et d’êtres fantastiques. Quelques notes de musiques… et le voyage commence !
URL:https://toursdemerle.fr/event/escarcelle-a-histoires-contes-en-musique/2025-04-23/3/
CATEGORIES:Les Animations
ATTACH;FMTTYPE=image/png:https://toursdemerle.fr/wp-content/uploads/2025/03/Escarcelle-a-histoires-3.png
END:VEVENT
END:VCALENDAR