BEGIN:VCALENDAR
VERSION:2.0
PRODID:-//Les Tours de Merle - Cité médiévale en Corrèze - ECPv6.15.18//NONSGML v1.0//EN
CALSCALE:GREGORIAN
METHOD:PUBLISH
X-WR-CALNAME:Les Tours de Merle - Cité médiévale en Corrèze
X-ORIGINAL-URL:https://toursdemerle.fr
X-WR-CALDESC:Évènements pour Les Tours de Merle - Cité médiévale en Corrèze
REFRESH-INTERVAL;VALUE=DURATION:PT1H
X-Robots-Tag:noindex
X-PUBLISHED-TTL:PT1H
BEGIN:VTIMEZONE
TZID:Europe/Paris
BEGIN:DAYLIGHT
TZOFFSETFROM:+0100
TZOFFSETTO:+0200
TZNAME:CEST
DTSTART:20230326T010000
END:DAYLIGHT
BEGIN:STANDARD
TZOFFSETFROM:+0200
TZOFFSETTO:+0100
TZNAME:CET
DTSTART:20231029T010000
END:STANDARD
BEGIN:DAYLIGHT
TZOFFSETFROM:+0100
TZOFFSETTO:+0200
TZNAME:CEST
DTSTART:20240331T010000
END:DAYLIGHT
BEGIN:STANDARD
TZOFFSETFROM:+0200
TZOFFSETTO:+0100
TZNAME:CET
DTSTART:20241027T010000
END:STANDARD
BEGIN:DAYLIGHT
TZOFFSETFROM:+0100
TZOFFSETTO:+0200
TZNAME:CEST
DTSTART:20250330T010000
END:DAYLIGHT
BEGIN:STANDARD
TZOFFSETFROM:+0200
TZOFFSETTO:+0100
TZNAME:CET
DTSTART:20251026T010000
END:STANDARD
END:VTIMEZONE
BEGIN:VEVENT
DTSTART;TZID=Europe/Paris:20240728T110000
DTEND;TZID=Europe/Paris:20240728T121500
DTSTAMP:20260421T141627
CREATED:20240207T132018Z
LAST-MODIFIED:20250313T111921Z
UID:10001612-1722164400-1722168900@toursdemerle.fr
SUMMARY:Visite guidée - L'Homme et la nature au Moyen Âge (1H15)
DESCRIPTION:Profitez d’une balade matinale aux pieds des Tours de Merle\, à l’ombre des grands arbres. Suivez les bords frais de la Maronne et découvrez la vie paysanne médiévale et le monde magique des plantes et de leurs usages au Moyen âge.
URL:https://toursdemerle.fr/event/visite-guidee-nature-1h15/2024-07-28/
CATEGORIES:Les Visites
ATTACH;FMTTYPE=image/jpeg:https://toursdemerle.fr/wp-content/uploads/2024/01/Les-Tours-de-Merle-nature-xaintrie-environnement-Nombril-de-venus@PhilippeLebrun.jpg
END:VEVENT
BEGIN:VEVENT
DTSTART;TZID=Europe/Paris:20240728T170000
DTEND;TZID=Europe/Paris:20240728T181500
DTSTAMP:20260421T141627
CREATED:20240207T103627Z
LAST-MODIFIED:20240807T135932Z
UID:10003388-1722186000-1722190500@toursdemerle.fr
SUMMARY:Visite théâtralisée (1h15)
DESCRIPTION:Ne manquez pas la rocambolesque visite théâtralisée pour découvrir les Tours de Merle en s’amusant ! Prenez votre machine à voyager dans le temps et plongez en plein cœur du Moyen âge ! Hélis de Merle vous invite à la suivre en cette journée de l’an 1225 et de découvrir les secrets de la forteresse des Tours de Merle et de ses habitants !
URL:https://toursdemerle.fr/event/visite-theatralisee-1h15-2/2024-07-28/
CATEGORIES:Les Visites
ATTACH;FMTTYPE=image/jpeg:https://toursdemerle.fr/wp-content/uploads/2024/01/Les-Tours-de-Merle-animations-familles-Spectacle-Pagaille@PierreLeygonie-12.jpg
END:VEVENT
END:VCALENDAR