BEGIN:VCALENDAR
VERSION:2.0
PRODID:-//Les Tours de Merle - Cité médiévale en Corrèze - ECPv6.15.18//NONSGML v1.0//EN
CALSCALE:GREGORIAN
METHOD:PUBLISH
X-ORIGINAL-URL:https://toursdemerle.fr
X-WR-CALDESC:Évènements pour Les Tours de Merle - Cité médiévale en Corrèze
REFRESH-INTERVAL;VALUE=DURATION:PT1H
X-Robots-Tag:noindex
X-PUBLISHED-TTL:PT1H
BEGIN:VTIMEZONE
TZID:Europe/Paris
BEGIN:DAYLIGHT
TZOFFSETFROM:+0100
TZOFFSETTO:+0200
TZNAME:CEST
DTSTART:20230326T010000
END:DAYLIGHT
BEGIN:STANDARD
TZOFFSETFROM:+0200
TZOFFSETTO:+0100
TZNAME:CET
DTSTART:20231029T010000
END:STANDARD
BEGIN:DAYLIGHT
TZOFFSETFROM:+0100
TZOFFSETTO:+0200
TZNAME:CEST
DTSTART:20240331T010000
END:DAYLIGHT
BEGIN:STANDARD
TZOFFSETFROM:+0200
TZOFFSETTO:+0100
TZNAME:CET
DTSTART:20241027T010000
END:STANDARD
BEGIN:DAYLIGHT
TZOFFSETFROM:+0100
TZOFFSETTO:+0200
TZNAME:CEST
DTSTART:20250330T010000
END:DAYLIGHT
BEGIN:STANDARD
TZOFFSETFROM:+0200
TZOFFSETTO:+0100
TZNAME:CET
DTSTART:20251026T010000
END:STANDARD
END:VTIMEZONE
BEGIN:VEVENT
DTSTART;TZID=Europe/Paris:20240726T110000
DTEND;TZID=Europe/Paris:20240726T114500
DTSTAMP:20260421T154056
CREATED:20240207T145021Z
LAST-MODIFIED:20240807T115141Z
UID:10002175-1721991600-1721994300@toursdemerle.fr
SUMMARY:Spectacle "Destins de Chevaliers" (45min)
DESCRIPTION:Humour et action sont les maîtres mots de ce spectacle d’aventures qui mène tout droit au temps des chevaliers ! Il réunit neuf comédiens\, escrimeurs et cascadeurs autour d’une nouvelle farce médiévale aux combats spectaculaires et aux situations rocambolesques ! À la fin du spectacle\, les comédiens invitent les enfants à vivre des épreuves pour devenir chevaliers et chevaleresses des Tours de Merle !
URL:https://toursdemerle.fr/event/spectacle-45min/2024-07-26/
CATEGORIES:Les Animations
ATTACH;FMTTYPE=image/jpeg:https://toursdemerle.fr/wp-content/uploads/2024/01/Les-Tours-de-Merle-animations-familles-Spectacle-Pagaille@PierreLeygonie-27.jpg
END:VEVENT
BEGIN:VEVENT
DTSTART;TZID=Europe/Paris:20240726T110000
DTEND;TZID=Europe/Paris:20240726T123000
DTSTAMP:20260421T154056
CREATED:20240203T110027Z
LAST-MODIFIED:20240711T075136Z
UID:10000349-1721991600-1721997000@toursdemerle.fr
SUMMARY:Visite guidée classique
DESCRIPTION:“Dans les pas des seigneurs des Tours de Merle” est notre visite guidée classique et incontournable pour découvrir les Tours de Merle ! Arpentez les chemins du castrum et découvrez l’histoire médiévale des lieux\, de ses habitants et de ses atouts naturels en compagnie d’une guide costumée.
URL:https://toursdemerle.fr/event/visite-guidee-classique-3/2024-07-26/
CATEGORIES:Les Visites
ATTACH;FMTTYPE=image/jpeg:https://toursdemerle.fr/wp-content/uploads/2024/02/Les-Tours-de-Merle-animations-familles-Visite-les-apprentis-archeo@PierreLeygonie-2.jpg
END:VEVENT
BEGIN:VEVENT
DTSTART;TZID=Europe/Paris:20240726T143000
DTEND;TZID=Europe/Paris:20240726T151500
DTSTAMP:20260421T154056
CREATED:20240207T145422Z
LAST-MODIFIED:20240807T114616Z
UID:10002209-1722004200-1722006900@toursdemerle.fr
SUMMARY:Spectacle "Destins de Chevaliers " (45min)
DESCRIPTION:Humour et action sont les maîtres mots de ce spectacle d’aventures qui mène tout droit au temps des chevaliers ! Il réunit neuf comédiens\, escrimeurs et cascadeurs autour d’une nouvelle farce médiévale aux combats spectaculaires et aux situations rocambolesques ! À la fin du spectacle\, les comédiens invitent les enfants à vivre des épreuves pour devenir chevaliers et chevaleresses des Tours de Merle !
URL:https://toursdemerle.fr/event/spectacle-45min-2/2024-07-26/
CATEGORIES:Les Animations
ATTACH;FMTTYPE=image/jpeg:https://toursdemerle.fr/wp-content/uploads/2024/01/Les-Tours-de-Merle-animations-familles-Spectacle-Pagaille@PierreLeygonie-27.jpg
END:VEVENT
BEGIN:VEVENT
DTSTART;TZID=Europe/Paris:20240726T170000
DTEND;TZID=Europe/Paris:20240726T174500
DTSTAMP:20260421T154056
CREATED:20240207T145508Z
LAST-MODIFIED:20240807T114340Z
UID:10002243-1722013200-1722015900@toursdemerle.fr
SUMMARY:Spectacle "Destins de Chevaliers" (45min)
DESCRIPTION:Humour et action sont les maîtres mots de ce spectacle d’aventures qui mène tout droit au temps des chevaliers ! Il réunit neuf comédiens\, escrimeurs et cascadeurs autour d’une nouvelle farce médiévale aux combats spectaculaires et aux situations rocambolesques ! À la fin du spectacle\, les comédiens invitent les enfants à vivre des épreuves pour devenir chevaliers et chevaleresses des Tours de Merle !
URL:https://toursdemerle.fr/event/spectacle-45min-3/2024-07-26/
CATEGORIES:Les Animations
ATTACH;FMTTYPE=image/jpeg:https://toursdemerle.fr/wp-content/uploads/2024/01/Les-Tours-de-Merle-animations-familles-Spectacle-Pagaille@PierreLeygonie-27.jpg
END:VEVENT
BEGIN:VEVENT
DTSTART;TZID=Europe/Paris:20240726T170000
DTEND;TZID=Europe/Paris:20240726T181500
DTSTAMP:20260421T154056
CREATED:20240207T103627Z
LAST-MODIFIED:20240807T135932Z
UID:10003386-1722013200-1722017700@toursdemerle.fr
SUMMARY:Visite théâtralisée (1h15)
DESCRIPTION:Ne manquez pas la rocambolesque visite théâtralisée pour découvrir les Tours de Merle en s’amusant ! Prenez votre machine à voyager dans le temps et plongez en plein cœur du Moyen âge ! Hélis de Merle vous invite à la suivre en cette journée de l’an 1225 et de découvrir les secrets de la forteresse des Tours de Merle et de ses habitants !
URL:https://toursdemerle.fr/event/visite-theatralisee-1h15-2/2024-07-26/
CATEGORIES:Les Visites
ATTACH;FMTTYPE=image/jpeg:https://toursdemerle.fr/wp-content/uploads/2024/01/Les-Tours-de-Merle-animations-familles-Spectacle-Pagaille@PierreLeygonie-12.jpg
END:VEVENT
END:VCALENDAR