BEGIN:VCALENDAR
VERSION:2.0
PRODID:-//Les Tours de Merle - Cité médiévale en Corrèze - ECPv6.15.18//NONSGML v1.0//EN
CALSCALE:GREGORIAN
METHOD:PUBLISH
X-WR-CALNAME:Les Tours de Merle - Cité médiévale en Corrèze
X-ORIGINAL-URL:https://toursdemerle.fr
X-WR-CALDESC:Évènements pour Les Tours de Merle - Cité médiévale en Corrèze
REFRESH-INTERVAL;VALUE=DURATION:PT1H
X-Robots-Tag:noindex
X-PUBLISHED-TTL:PT1H
BEGIN:VTIMEZONE
TZID:Europe/Paris
BEGIN:DAYLIGHT
TZOFFSETFROM:+0100
TZOFFSETTO:+0200
TZNAME:CEST
DTSTART:20230326T010000
END:DAYLIGHT
BEGIN:STANDARD
TZOFFSETFROM:+0200
TZOFFSETTO:+0100
TZNAME:CET
DTSTART:20231029T010000
END:STANDARD
BEGIN:DAYLIGHT
TZOFFSETFROM:+0100
TZOFFSETTO:+0200
TZNAME:CEST
DTSTART:20240331T010000
END:DAYLIGHT
BEGIN:STANDARD
TZOFFSETFROM:+0200
TZOFFSETTO:+0100
TZNAME:CET
DTSTART:20241027T010000
END:STANDARD
BEGIN:DAYLIGHT
TZOFFSETFROM:+0100
TZOFFSETTO:+0200
TZNAME:CEST
DTSTART:20250330T010000
END:DAYLIGHT
BEGIN:STANDARD
TZOFFSETFROM:+0200
TZOFFSETTO:+0100
TZNAME:CET
DTSTART:20251026T010000
END:STANDARD
END:VTIMEZONE
BEGIN:VEVENT
DTSTART;TZID=Europe/Paris:20240717T100000
DTEND;TZID=Europe/Paris:20240717T130000
DTSTAMP:20260421T153955
CREATED:20240207T153907Z
LAST-MODIFIED:20240209T140055Z
UID:10002273-1721210400-1721221200@toursdemerle.fr
SUMMARY:L'art de la Forge
DESCRIPTION:Émerveillez-vous devant les étincelles de l’acier brûlant et de la force du forgeron pour faire d’un bout de métal brut une merveilleuse et splendide épée magique ! Découvrez les secrets de la forge avec Zant’art et devenez de vrais bonhommes !
URL:https://toursdemerle.fr/event/lart-de-la-forge/2024-07-17/1/
CATEGORIES:Les Animations
ATTACH;FMTTYPE=image/jpeg:https://toursdemerle.fr/wp-content/uploads/2024/02/Tours-de-Merles-Atelier-Forge-forgeron-2.jpg
END:VEVENT
BEGIN:VEVENT
DTSTART;TZID=Europe/Paris:20240717T110000
DTEND;TZID=Europe/Paris:20240717T123000
DTSTAMP:20260421T153955
CREATED:20240203T110027Z
LAST-MODIFIED:20240711T075136Z
UID:10000341-1721214000-1721219400@toursdemerle.fr
SUMMARY:Visite guidée classique
DESCRIPTION:“Dans les pas des seigneurs des Tours de Merle” est notre visite guidée classique et incontournable pour découvrir les Tours de Merle ! Arpentez les chemins du castrum et découvrez l’histoire médiévale des lieux\, de ses habitants et de ses atouts naturels en compagnie d’une guide costumée.
URL:https://toursdemerle.fr/event/visite-guidee-classique-3/2024-07-17/
CATEGORIES:Les Visites
ATTACH;FMTTYPE=image/jpeg:https://toursdemerle.fr/wp-content/uploads/2024/02/Les-Tours-de-Merle-animations-familles-Visite-les-apprentis-archeo@PierreLeygonie-2.jpg
END:VEVENT
BEGIN:VEVENT
DTSTART;TZID=Europe/Paris:20240717T140000
DTEND;TZID=Europe/Paris:20240717T180000
DTSTAMP:20260421T153955
CREATED:20240207T153907Z
LAST-MODIFIED:20240209T140055Z
UID:10002274-1721224800-1721239200@toursdemerle.fr
SUMMARY:L'art de la Forge
DESCRIPTION:Émerveillez-vous devant les étincelles de l’acier brûlant et de la force du forgeron pour faire d’un bout de métal brut une merveilleuse et splendide épée magique ! Découvrez les secrets de la forge avec Zant’art et devenez de vrais bonhommes !
URL:https://toursdemerle.fr/event/lart-de-la-forge/2024-07-17/2/
CATEGORIES:Les Animations
ATTACH;FMTTYPE=image/jpeg:https://toursdemerle.fr/wp-content/uploads/2024/02/Tours-de-Merles-Atelier-Forge-forgeron-2.jpg
END:VEVENT
BEGIN:VEVENT
DTSTART;TZID=Europe/Paris:20240717T170000
DTEND;TZID=Europe/Paris:20240717T181500
DTSTAMP:20260421T153955
CREATED:20240207T103627Z
LAST-MODIFIED:20240807T135932Z
UID:10003377-1721235600-1721240100@toursdemerle.fr
SUMMARY:Visite théâtralisée (1h15)
DESCRIPTION:Ne manquez pas la rocambolesque visite théâtralisée pour découvrir les Tours de Merle en s’amusant ! Prenez votre machine à voyager dans le temps et plongez en plein cœur du Moyen âge ! Hélis de Merle vous invite à la suivre en cette journée de l’an 1225 et de découvrir les secrets de la forteresse des Tours de Merle et de ses habitants !
URL:https://toursdemerle.fr/event/visite-theatralisee-1h15-2/2024-07-17/
CATEGORIES:Les Visites
ATTACH;FMTTYPE=image/jpeg:https://toursdemerle.fr/wp-content/uploads/2024/01/Les-Tours-de-Merle-animations-familles-Spectacle-Pagaille@PierreLeygonie-12.jpg
END:VEVENT
BEGIN:VEVENT
DTSTART;TZID=Europe/Paris:20240717T190000
DTEND;TZID=Europe/Paris:20240717T210000
DTSTAMP:20260421T153955
CREATED:20240207T134316Z
LAST-MODIFIED:20240718T071841Z
UID:10002042-1721242800-1721250000@toursdemerle.fr
SUMMARY:Visite nocturne et saveurs médiévales (2h)
DESCRIPTION:Les Tours de Merle se dévoilent sous l’heure dorée… Ne manquez pas l’inoubliable visite exclusive aux saveurs médiévales pour découvrir les Tours de Merle dans un moment privilégié et hors du temps ! À la lueur d’un coucher de soleil et au cœur d’un site ouvert rien que pour vous\, allez à la rencontre d’une habitante des Tours de Merle\, cheminez à travers le temps et dans une ambiance magique et privilégiée\, découvrez  avec notre visite théâtralisée l’histoire de la forteresse. En fin de visite\, agitez vos papilles en finissant sur une note épicée aux effluves médiévales.
URL:https://toursdemerle.fr/event/visite-nocturne-et-saveurs-medievales/2024-07-17/
CATEGORIES:Les Soirées,Les Visites
ATTACH;FMTTYPE=image/jpeg:https://toursdemerle.fr/wp-content/uploads/2024/02/Les-Tours-de-Merle-visite-nocturne-exclusive-saveurs-medievales.jpg
END:VEVENT
END:VCALENDAR