BEGIN:VCALENDAR
VERSION:2.0
PRODID:-//Les Tours de Merle - Cité médiévale en Corrèze - ECPv6.15.18//NONSGML v1.0//EN
CALSCALE:GREGORIAN
METHOD:PUBLISH
X-ORIGINAL-URL:https://toursdemerle.fr
X-WR-CALDESC:Évènements pour Les Tours de Merle - Cité médiévale en Corrèze
REFRESH-INTERVAL;VALUE=DURATION:PT1H
X-Robots-Tag:noindex
X-PUBLISHED-TTL:PT1H
BEGIN:VTIMEZONE
TZID:Europe/Paris
BEGIN:DAYLIGHT
TZOFFSETFROM:+0100
TZOFFSETTO:+0200
TZNAME:CEST
DTSTART:20230326T010000
END:DAYLIGHT
BEGIN:STANDARD
TZOFFSETFROM:+0200
TZOFFSETTO:+0100
TZNAME:CET
DTSTART:20231029T010000
END:STANDARD
BEGIN:DAYLIGHT
TZOFFSETFROM:+0100
TZOFFSETTO:+0200
TZNAME:CEST
DTSTART:20240331T010000
END:DAYLIGHT
BEGIN:STANDARD
TZOFFSETFROM:+0200
TZOFFSETTO:+0100
TZNAME:CET
DTSTART:20241027T010000
END:STANDARD
BEGIN:DAYLIGHT
TZOFFSETFROM:+0100
TZOFFSETTO:+0200
TZNAME:CEST
DTSTART:20250330T010000
END:DAYLIGHT
BEGIN:STANDARD
TZOFFSETFROM:+0200
TZOFFSETTO:+0100
TZNAME:CET
DTSTART:20251026T010000
END:STANDARD
END:VTIMEZONE
BEGIN:VEVENT
DTSTART;TZID=Europe/Paris:20240501T150000
DTEND;TZID=Europe/Paris:20240501T170000
DTSTAMP:20260421T211812
CREATED:20240207T105854Z
LAST-MODIFIED:20240506T151512Z
UID:10001425-1714575600-1714582800@toursdemerle.fr
SUMMARY:Les apprentis archéologues (2h)
DESCRIPTION:Mettez-vous dans la peau d’un archéologue et découvrez le site des Tours de Merle sous un autre angle. Apprenez à regarder différemment les vestiges et ses détails puis sortez vos plus beaux outils pour rejoindre le chantier de fouille pour déterrer quelques secrets ! \nEn cas d’intempéries\, un atelier de substitution sera proposé.
URL:https://toursdemerle.fr/event/les-apprentis-archeologues-2h/2024-05-01/
CATEGORIES:Les Animations,Les Visites
ATTACH;FMTTYPE=image/jpeg:https://toursdemerle.fr/wp-content/uploads/2024/01/Les-Tours-de-Merle-animations-familles-Visite-les-apprentis-archeo@PierreLeygonie-18.jpg
END:VEVENT
END:VCALENDAR